BEGIN:VCALENDAR
VERSION:2.0
PRODID:-//wp-events-plugin.com//7.2.3.1//EN
TZID:Europe/Warsaw
X-WR-TIMEZONE:Europe/Warsaw
BEGIN:VEVENT
UID:35898@night4u.pl
DTSTART;TZID=Europe/Warsaw:20191119T200000
DTEND;TZID=Europe/Warsaw:20191119T213000
DTSTAMP:20191119T110211Z
URL:https://night4u.pl/wydarzenia/step-by-step-wolne-elektrony/
SUMMARY:Step by Step - Wolne Elektrony
DESCRIPTION:W życiu są sytuację\, w których zastanawiamy się "Jak do t
 ego doszło?".  \nGdybyśmy mogli wtedy cofnąć czas by zobaczyć  co tam
  się wydarzyło?\nTak właśnie będzie w Bunkier na Step by Step.\nGdzie
  Stworzymy dla was spontaniczną historię\, w której prześledzimy losy 
 bohaterów na scenie.\nBędzie zabawnie\, groteskowo\, dziko\, szalenie\, 
 przerażająco i wiele więcej!\nTo wszystko dzięki Wolne Elektrony\nKrzy
 sztof Gojowy\nJasiu\nŁukasz Tymiński (Tymon Stuff)\nPlus bonusowy elektr
 on\nPaula Paula (NOT YET)\n\nA gdzie takie cuda?\nW Bunkier na ulicy Oleja
 rnej 3 w Gdańsku\nStart o 20:00\nWstęp 10zł na wejściu\n\nSerdecznie z
 apraszamy!
ATTACH;FMTTYPE=image/jpeg:https://night4u.pl/wp-content/uploads/2019/11/95
 537_image_69664922_940801339628183_5010337405304045568_o.jpg
CATEGORIES:pomorskie
LOCATION:Bunkier\, Olejarna 3\, Gdansk\, 80-843\, Poland
GEO:54.35446;18.65466
X-APPLE-STRUCTURED-LOCATION;VALUE=URI;X-ADDRESS=Olejarna 3\, Gdansk\, 80-84
 3\, Poland;X-APPLE-RADIUS=100;X-TITLE=Bunkier:geo:54.35446,18.65466
END:VEVENT
BEGIN:VTIMEZONE
TZID:Europe/Warsaw
X-LIC-LOCATION:Europe/Warsaw
BEGIN:STANDARD
DTSTART:20191027T020000
TZOFFSETFROM:+0200
TZOFFSETTO:+0100
TZNAME:CET
END:STANDARD
END:VTIMEZONE
END:VCALENDAR