BEGIN:VCALENDAR
VERSION:2.0
PRODID:-//wp-events-plugin.com//7.2.3.1//EN
TZID:Europe/Warsaw
X-WR-TIMEZONE:Europe/Warsaw
BEGIN:VEVENT
UID:41634@night4u.pl
DTSTART;TZID=Europe/Warsaw:20200206T200000
DTEND;TZID=Europe/Warsaw:20200206T230000
DTSTAMP:20200331T154536Z
URL:https://night4u.pl/wydarzenia/stopklatka-muzyka-filmowa-na-jazzowo-w-s
 tarym-klasztorze/
SUMMARY:Stopklatka - muzyka filmowa na jazzowo w Starym Klasztorze!
DESCRIPTION:Stopklatka - muzyka filmowa na jazzowo w Starym Klasztorze!\n\n
 Klub Stary Klasztor zaprasza na wieczór muzyki filmowej na jazzowo.\n6 lu
 tego w Sali Gotyckiej w ramach projektu STOPKLATKA usłyszymy jazzowe aran
 żacje utworów znanych z filmów Leon Zawodowiec\, Bagdad Cafe\, Moulin R
 ouge\, Miasto Aniołów\, Flashdance\, Ida i wielu innych.\n\nSTOPKLATKA t
 o projekt stworzony przez grupę wrocławskich muzyków\,  których łącz
 y nie tylko pasja do grania dobrej muzyki jazzowej\, ale też  gust filmow
 y. Pomysł uformowania tych pasji w cały projekt powstał niedawno\, bo w
  2017 roku. Zafascynowani światem przedstawionym w  historiach pisanych i
  ekranizowanych przez najlepszych reżyserów\,  szczególnie doceniają w
 ybór utworów\, które towarzyszą poszczególnym scenom. To ścieżka d
 źwiękowa jest dla nich kopalnią nowych inspiracji i przykładem na to\,
  jak silnie pobudzani przez te dźwięki jesteśmy w  stanie przenieść s
 ię w świat filmu\, nawet długo po jego obejrzeniu. \n\nProjekt STOPKLAT
 KA wystąpi w składzie:\nNatalia Lubrano - voc\nPiotr Rachoń - piano\nWo
 jtek Bergander - bass\nMarcin Rak - drums\n\n6.02.20 godz.20.00 Sala Gotyc
 ka w Starym Klasztorze\, ul. Purkyniego 1\nSTOPKLATKA - muzyka filmowa na 
 jazzowo\nmiejsca siedzące: 45 zł - przedsprzedaż\, 50 zł - w dniu konc
 ertu\nmiejsca stojące: 30 zł - przedsprzedaż\, 35 zł - w dniu koncertu
 \n\nBilety dostępne w serwisach: www.staryklasztor.com.pl/bilety/\, www.e
 ventim.pl\, www.ebilet.pl\, goingapp.pl\,  www.biletyna.pl \nrezerwacje: b
 ilety@o2.pl
ATTACH;FMTTYPE=image/jpeg:https://night4u.pl/wp-content/uploads/2020/01/13
 0580_image_81253201_2650409315074187_1486528278960275456_o.jpg
CATEGORIES:dolnośląskie
LOCATION:Stary Klasztor\, Purkyniego 1\, Wroclaw\, 50-155\, Poland
GEO:51.110198;17.039162
X-APPLE-STRUCTURED-LOCATION;VALUE=URI;X-ADDRESS=Purkyniego 1\, Wroclaw\, 50
 -155\, Poland;X-APPLE-RADIUS=100;X-TITLE=Stary Klasztor:geo:51.110198,17.0
 39162
END:VEVENT
BEGIN:VTIMEZONE
TZID:Europe/Warsaw
X-LIC-LOCATION:Europe/Warsaw
BEGIN:STANDARD
DTSTART:20191027T020000
TZOFFSETFROM:+0200
TZOFFSETTO:+0100
TZNAME:CET
END:STANDARD
END:VTIMEZONE
END:VCALENDAR