BEGIN:VCALENDAR
VERSION:2.0
PRODID:-//wp-events-plugin.com//7.2.3.1//EN
TZID:Europe/Warsaw
X-WR-TIMEZONE:Europe/Warsaw
BEGIN:VEVENT
UID:51831@night4u.pl
DTSTART;TZID=Europe/Warsaw:20251017T180000
DTEND;TZID=Europe/Warsaw:20251017T210000
DTSTAMP:20250901T203246Z
URL:https://night4u.pl/wydarzenia/strachy-na-lachylublin-fabryka-kultury-z
 grzyt/
SUMMARY:Strachy Na Lachy|Lublin- Fabryka Kultury Zgrzyt
DESCRIPTION:Otwarcie Klubu: 18:00\nMiejsce: Fabryka Kultury Zgrzyt\, Lublin
  ul. Piłsudskiego 13.\n\nBilety:\nI pula 119 PLN\nII pula 129 PLN\nW dniu
  koncertu 149 PLN\n\nBilety z I puli w cenie 119 PLN do nabycia:\n►Kup B
 ilecik\nhttps://kbq.pl/165358\n\n►Stage24\nhttps://stage24.pl/events/str
 achy-na-lachy-fabryka-kultury-zgrzyt-4762\n\n►Na stronie klubu:\nhttps:/
 /www.podpalma.pl/produkt/strachy-na-lachylublin-fabryka-kultury-zgrzyt/\n\
 nStrachy Na Lachy to formacja powołana przez Grabaża i Kozaka założyci
 eli Pidżamy Porno. Pierwszy skład uzupełnili basista Lo z Inri oraz Mar
 iusz Nalepa gitarzysta zespołu Na Górze. W tym składzie\, po dwóch pr
 óbach w Pile\, jako Grabaż + Ktoś Tam Jeszcze we wrześniu 2001 roku za
 grali ponad dwugodzinny koncert w Legnicy.\nWkrótce zmienili nazwę na Gr
 abaż i Strachy Na Lachy. W lutym 2003 roku Strachy podpisały kontrakt p
 łytowy z SP Records\, w efekcie czego\, w pilskim Studio „Q”\, pod ok
 iem Toma Horna\, powstała debiutancka płyta „Strachy Na Lachy. Z tej p
 łyty największym przebojem jest piosenka Raissa\, do dziś żelazny punk
 t każdego koncertu grupy. Do grupy dołączyli Kuzyn- perkusja oraz Anem 
 – klawisze.\nW styczniu 2005 roku zespół rozpoczął pracę nad albume
 m „Piła Tango”. W lutym i marcu 2005 roku SNL odbyły swoje najdłuż
 sze tournee\, grając 16 koncertów w całej Polsce.. Podobnie jak przy pi
 erwszej płycie – Strachom w nagraniu albumu pomogło wielu zaproszonych
  gości – Tom Horn na klawiszach\, Tomek Ziętek na trąbce czy Zbigniew
  Zamachowski\, który mistrzowsko użyczył swego głosu Mędrcowi w „Po
 grzebie Króla”. Jeden z gości sesji „PIŁA TANGO” – Arek Rejda o
 d 3 września stał się siódmym członkiem strachowego kolektywu…Tego 
 samego dnia Grabaż podejmuje decyzję o usunięciu swojej ksywki z nazwy 
 grupy. Od tej pory prawidłowa i obowiązująca nazwa grupy brzmi: Strachy
  Na Lachy.
ATTACH;FMTTYPE=image/jpeg:https://night4u.pl/wp-content/uploads/2025/05/St
 rachy-Na-Lachy-Lublin-Fabryka-Kultury-Zgrzyt.jpg
CATEGORIES:lubelskie
LOCATION:Fabryka Kultury Zgrzyt\, Fabryka Kultury Zgrzyt\, 
X-APPLE-STRUCTURED-LOCATION;VALUE=URI;X-ADDRESS=Fabryka Kultury Zgrzyt\, ;X
 -APPLE-RADIUS=100;X-TITLE=Fabryka Kultury Zgrzyt:geo:0,0
END:VEVENT
BEGIN:VTIMEZONE
TZID:Europe/Warsaw
X-LIC-LOCATION:Europe/Warsaw
BEGIN:DAYLIGHT
DTSTART:20250330T030000
TZOFFSETFROM:+0100
TZOFFSETTO:+0200
TZNAME:CEST
END:DAYLIGHT
END:VTIMEZONE
END:VCALENDAR