BEGIN:VCALENDAR
VERSION:2.0
PRODID:-//wp-events-plugin.com//7.2.3.1//EN
TZID:Europe/Warsaw
X-WR-TIMEZONE:Europe/Warsaw
BEGIN:VEVENT
UID:34285@night4u.pl
DTSTART;TZID=Europe/Warsaw:20191102T223000
DTEND;TZID=Europe/Warsaw:20191103T050000
DTSTAMP:20191102T064220Z
URL:https://night4u.pl/wydarzenia/stranger-hits-lista-fb/
SUMMARY:Stranger Hits | lista FB*
DESCRIPTION:Dwie zasady: pełen parkiet i przekrojowe hity. Reszta bez spoi
 lerów 🤫\n\n💥 Phunk'ill (Otsochodzi)\n💥 Kotojelen\n💥 Miko Czaj
 kowski\n\nRezerwacje stolików i miejsc siedzących przyjmujemy pod mailem
 : rezerwacje@klubniebo.pl\n\n20+\n\n*lista FB free do 23:30\n---\nPatronat
 :\nWarsawholic\nExample.pl\nGoing.
ATTACH;FMTTYPE=image/jpeg:https://night4u.pl/wp-content/uploads/2019/10/88
 214_image_73324878_2448165368781628_2331590324540932096_n.jpg
CATEGORIES:mazowieckie
LOCATION:NIEBO\, ul. Nowy Świat 21\, Warsaw\, 00-029\, Poland
GEO:52.23238;21.018267
X-APPLE-STRUCTURED-LOCATION;VALUE=URI;X-ADDRESS=ul. Nowy Świat 21\, Warsaw
 \, 00-029\, Poland;X-APPLE-RADIUS=100;X-TITLE=NIEBO:geo:52.23238,21.018267
END:VEVENT
BEGIN:VTIMEZONE
TZID:Europe/Warsaw
X-LIC-LOCATION:Europe/Warsaw
BEGIN:STANDARD
DTSTART:20191027T020000
TZOFFSETFROM:+0200
TZOFFSETTO:+0100
TZNAME:CET
END:STANDARD
END:VTIMEZONE
END:VCALENDAR