BEGIN:VCALENDAR
VERSION:2.0
PRODID:-//wp-events-plugin.com//7.2.3.1//EN
TZID:Europe/Warsaw
X-WR-TIMEZONE:Europe/Warsaw
BEGIN:VEVENT
UID:30870@night4u.pl
DTSTART;TZID=Europe/Warsaw:20191019T221300
DTEND;TZID=Europe/Warsaw:20191020T050000
DTSTAMP:20191019T184209Z
URL:https://night4u.pl/wydarzenia/strangers-in-the-room-prestens-niegrzecz
 ni-chlopcy/
SUMMARY:Strangers in the Room prestens: Niegrzeczni Chłopcy
DESCRIPTION:Strangers in the Room to nowy cykl imprezowy w swym rodzaju uni
 katowy na muzycznej mapie Warszawy. Na imprezy z tego cyklu \nzapraszani s
 ą najlepsi dje i klubowi rezydenci z różnych miast Polski. We paździer
 niku gościmy naszych przyjaciół z Kielc\, czyli kolektyw Niegrzeczni Ch
 łopcy!\n\nPrzyjdź i daj się ponieść sobotniemu szaleństwu!\n\nStart 
 22:13\nWstęp 20 PLN \nLista FB Free do 0:13\nSelekcja\n\nPatronat Medialn
 y:\n\nRadio ESKA\n\nREZERWACJE \n732 538 638 \ninfo@room13.pl\n___________
 ___________\n\nwww.room13.pl\nfb.com/room13club\ninstagram.com/room13club
ATTACH;FMTTYPE=image/jpeg:https://night4u.pl/wp-content/uploads/2019/10/71
 289_image_71910475_2757597730930600_4706538786316615680_o.jpg
CATEGORIES:mazowieckie
LOCATION:ROOM 13 Club\, ul. Mazowiecka 13\, Warsaw\, 00-052\, Poland
GEO:52.237999;21.012896
X-APPLE-STRUCTURED-LOCATION;VALUE=URI;X-ADDRESS=ul. Mazowiecka 13\, Warsaw\
 , 00-052\, Poland;X-APPLE-RADIUS=100;X-TITLE=ROOM 13 Club:geo:52.237999,21
 .012896
END:VEVENT
BEGIN:VTIMEZONE
TZID:Europe/Warsaw
X-LIC-LOCATION:Europe/Warsaw
BEGIN:DAYLIGHT
DTSTART:20190331T030000
TZOFFSETFROM:+0100
TZOFFSETTO:+0200
TZNAME:CEST
END:DAYLIGHT
END:VTIMEZONE
END:VCALENDAR