BEGIN:VCALENDAR
VERSION:2.0
PRODID:-//wp-events-plugin.com//7.2.3.1//EN
TZID:Europe/Warsaw
X-WR-TIMEZONE:Europe/Warsaw
BEGIN:VEVENT
UID:49687@night4u.pl
DTSTART;TZID=Europe/Warsaw:20200403T213000
DTEND;TZID=Europe/Warsaw:20200404T020000
DTSTAMP:20200323T114418Z
URL:https://night4u.pl/wydarzenia/street-kizomba-meeting-muchos-03-04/
SUMMARY:Street kizomba meeting // Muchos 03.04
DESCRIPTION:Kochani\,\nw kwietniu na pewno nie zabraknie nam tańca i w wyb
 rane piątki będziemy przygrywać w naszym kochanym Muchos. \n\nFormuła 
 wydarzenia jest Wam znana\, więc szykujcie się na streetowe dylanka w an
 golskich rymtach.\n\nW kwietniu street przypadnie na 03.04\nStart: 21:30\n
 Wstęp: FREE\nMiejsce: Muchos ul. Nowowiejskiego 13/15\nZa sterami: Carlos
  Gee F\n\nDo zobaczenia!
ATTACH;FMTTYPE=image/jpeg:https://night4u.pl/wp-content/uploads/2020/03/17
 3446_image_87990766_2848520891876030_525012773583716352_o.jpg
CATEGORIES:wielkopolskie
LOCATION:muchos\, ul. Nowowiejskiego 13/15\, Poznan\, 61-732\, Poland
GEO:52.410638;16.926715
X-APPLE-STRUCTURED-LOCATION;VALUE=URI;X-ADDRESS=ul. Nowowiejskiego 13/15\, 
 Poznan\, 61-732\, Poland;X-APPLE-RADIUS=100;X-TITLE=muchos:geo:52.410638,1
 6.926715
END:VEVENT
BEGIN:VTIMEZONE
TZID:Europe/Warsaw
X-LIC-LOCATION:Europe/Warsaw
BEGIN:DAYLIGHT
DTSTART:20200329T030000
TZOFFSETFROM:+0100
TZOFFSETTO:+0200
TZNAME:CEST
END:DAYLIGHT
END:VTIMEZONE
END:VCALENDAR