BEGIN:VCALENDAR
VERSION:2.0
PRODID:-//wp-events-plugin.com//7.2.3.1//EN
TZID:Europe/Warsaw
X-WR-TIMEZONE:Europe/Warsaw
BEGIN:VEVENT
UID:5012@night4u.pl
DTSTART;TZID=Europe/Warsaw:20190126T200000
DTEND;TZID=Europe/Warsaw:20190127T030000
DTSTAMP:20190124T164451Z
URL:https://night4u.pl/wydarzenia/strefa-house-_tinne/
SUMMARY:Strefa HOUSE _@Tinne
DESCRIPTION:Czołem ekipa ! \n\nSobota nadciąga wielkimi krokami ...a wraz
  z nią nasz człowiek od HOUSEu. Na Krakowskim 25 zamelduje się Dj TINNE
  - gość\, który tego wieczoru odpali kilka dobrych kawałków. Klasyczn
 ie - siadacie na kanapach\, spożywacie dobre tematy a w tle piękny house
  ! W pełnej gotowości nasz #OSTROcocktailTEAM  ! Klimat wzór - wiadomo!
  Do zobaczenia w sobotę !\n\nStart :: 20.00\nWejście :: FREE
ATTACH;FMTTYPE=image/jpeg:https://night4u.pl/wp-content/uploads/2019/01/15
 866_image_50877579_1017027215151603_7099189814796222464_o.jpg
CATEGORIES:lubelskie
LOCATION:OSTRO\, ul. Krakowskie Przedmieście 25\, Lublin\, 20-002\, Poland
GEO:51.24798;22.56254
X-APPLE-STRUCTURED-LOCATION;VALUE=URI;X-ADDRESS=ul. Krakowskie Przedmieści
 e 25\, Lublin\, 20-002\, Poland;X-APPLE-RADIUS=100;X-TITLE=OSTRO:geo:51.24
 798,22.56254
END:VEVENT
BEGIN:VTIMEZONE
TZID:Europe/Warsaw
X-LIC-LOCATION:Europe/Warsaw
BEGIN:STANDARD
DTSTART:20181028T020000
TZOFFSETFROM:+0200
TZOFFSETTO:+0100
TZNAME:CET
END:STANDARD
END:VTIMEZONE
END:VCALENDAR