BEGIN:VCALENDAR
VERSION:2.0
PRODID:-//wp-events-plugin.com//7.2.3.1//EN
TZID:Europe/Warsaw
X-WR-TIMEZONE:Europe/Warsaw
BEGIN:VEVENT
UID:31361@night4u.pl
DTSTART;TZID=Europe/Warsaw:20191030T210000
DTEND;TZID=Europe/Warsaw:20191031T040000
DTSTAMP:20191031T004415Z
URL:https://night4u.pl/wydarzenia/studencka-integracja-rzeszowa-x-hallowee
 n-x-lista-facebook-free/
SUMMARY:Studencka Integracja Rzeszowa x Halloween x Lista Facebook Free
DESCRIPTION:Witajcie Studenci❗ \n\nNie ma na co czekać\, po Otrzęsinach
  szykujemy dla Was kolejną imprezę! Motywem przewodnim będzie Wielka St
 udencka Integracja\, a że termin odpowiedni to zabawimy się w mrroczne H
 alloween! Bawimy się\, poznajemy się\, imprezujemy! 😎\nCukierek czy p
 sikus ❓😏\n\nObecność dla wszystkich imprezowych studentów obowiąz
 kowa! Pamiętajcie\, nie ma spiny\, są DRUGIE TERMINY!\n\nWidzimy się! 
 👉😎\n\n------------- ☑ WSTĘP FREE ☑ -------------\n\nWszyscy\, k
 tórzy:\n\n• WEZMĄ UDZIAŁ w wydarzeniu\, \n• POLUBIĄ Drugi Termin\n
 \nwchodzą do klubu do 21:30 za FREE! \n\nLista FB zostaje zamknięta o 14
 :00 w dniu 30.10.19 r.\n\n------------- ☑ SZCZEGÓŁY ☑ -------------\
 n\nData: 30 października (środa)\, 21:00\n\nKlub: \nGrand Club\n\nSelekc
 ja: 18+\n\nWstęp:\nLista FB:\n21:00-21:30 - 0 PLN\n21:31-23:00 - 10 PLN\n
 23:01-... - 20 PLN\n\nPozostali:\n21:00-23:00 - 10 PLN\n23:01-... - 20 PLN
 \n\nDo zobaczenia!\n\n-------------\nOrganizatorzy zastrzegają sobie praw
 o do selekcji gości.
ATTACH;FMTTYPE=image/jpeg:https://night4u.pl/wp-content/uploads/2019/10/73
 144_image_72486922_2904648606220876_5389551410876514304_o.jpg
CATEGORIES:podkarpackie
LOCATION:Grand Club\, ul. Kościuszki 9\, Rzeszów\, 35-030\, Poland
GEO:50.03742;22.00255
X-APPLE-STRUCTURED-LOCATION;VALUE=URI;X-ADDRESS=ul. Kościuszki 9\, Rzeszó
 w\, 35-030\, Poland;X-APPLE-RADIUS=100;X-TITLE=Grand Club:geo:50.03742,22.
 00255
END:VEVENT
BEGIN:VTIMEZONE
TZID:Europe/Warsaw
X-LIC-LOCATION:Europe/Warsaw
BEGIN:STANDARD
DTSTART:20191027T020000
TZOFFSETFROM:+0200
TZOFFSETTO:+0100
TZNAME:CET
END:STANDARD
END:VTIMEZONE
END:VCALENDAR