BEGIN:VCALENDAR
VERSION:2.0
PRODID:-//wp-events-plugin.com//7.2.3.1//EN
TZID:Europe/Warsaw
X-WR-TIMEZONE:Europe/Warsaw
BEGIN:VEVENT
UID:48547@night4u.pl
DTSTART;TZID=Europe/Warsaw:20200227T210000
DTEND;TZID=Europe/Warsaw:20200228T010000
DTSTAMP:20200227T004736Z
URL:https://night4u.pl/wydarzenia/studencki-czwartek-49/
SUMMARY:Studencki Czwartek
DESCRIPTION:Czwartek! Zaczynamy WEEKEND promocjami! \n\nMamy dla WAS:\n* 40
  zł za godzinę gry w kręgle dla studentów przez cały dzień! \n* Happ
 y Hour od 22:00 do 23:00\, czyli 40% zniżki na wybrane produkty z baru dl
 a  wszystkich!\n\n******************************************\nRezerwacje l
 oży i torów: 502 810 487\nRezerwacje online: http://tinyurl.com/Rezerwac
 je-Kula-Bowling-Club
ATTACH;FMTTYPE=image/jpeg:https://night4u.pl/wp-content/uploads/2020/02/16
 5953_image_87038175_2571242009669360_5450699710673190912_o.jpg
CATEGORIES:podkarpackie
LOCATION:Kula  Bowling &amp\; Club\, Krakowska 20\, Rzeszów\, 35-111\, Pol
 and
GEO:50.048906;21.975939
X-APPLE-STRUCTURED-LOCATION;VALUE=URI;X-ADDRESS=Krakowska 20\, Rzeszów\, 3
 5-111\, Poland;X-APPLE-RADIUS=100;X-TITLE=Kula  Bowling & Club:geo:50.0489
 06,21.975939
END:VEVENT
BEGIN:VTIMEZONE
TZID:Europe/Warsaw
X-LIC-LOCATION:Europe/Warsaw
BEGIN:STANDARD
DTSTART:20191027T020000
TZOFFSETFROM:+0200
TZOFFSETTO:+0100
TZNAME:CET
END:STANDARD
END:VTIMEZONE
END:VCALENDAR