BEGIN:VCALENDAR
VERSION:2.0
PRODID:-//wp-events-plugin.com//7.2.3.1//EN
TZID:Europe/Warsaw
X-WR-TIMEZONE:Europe/Warsaw
BEGIN:VEVENT
UID:4930@night4u.pl
DTSTART;TZID=Europe/Warsaw:20190124T210000
DTEND;TZID=Europe/Warsaw:20190125T040000
DTSTAMP:20190122T193635Z
URL:https://night4u.pl/wydarzenia/studencki-czwartek-w-skylab/
SUMMARY:Studencki Czwartek w SkyLab
DESCRIPTION:?DLA PIERWSZYCH 50 OSÓB SHOOT FREE\n?DO ROZDANIA 120 PIW\n? GR
 Y STUDENCKIE Z NAGRODAMI\n\n?KONKURS DLA NAJLEPSZEJ EKIPY - LOŻA+ WÓDKA\
 n\n? zaproszenia do \nDoner Kebab\nKOBE GRILL HOUSE by American Burger\nAR
 OMA CAFE Palarnia Kawy\nHouse Of Mystery\n?Studenckie konkursy\, zawody i 
 zabawy. OGROM NAGRÓD DO ZGARNIĘCIA!!\n\n\n\nStart: 21:00\nWstęp:  \nSTU
 DENCI 5PLN\nRESZTA: 15PLN\nimpreza 18+\n\nREZERWACJE ONLINE!\nwww.emenago.
 com/i/skylabclub\ninformacje oraz szczegóły rezerwacji\nTEL: 882 803 805
ATTACH;FMTTYPE=image/jpeg:https://night4u.pl/wp-content/uploads/2019/01/15
 689_image_50252809_2027415024021629_4725369628044296192_o.jpg
CATEGORIES:dolnośląskie
LOCATION:Skylab Music Club\, 1 Maja 77\, Jelenia Góra\, 58-500\, Poland
GEO:50.90239;15.75506
X-APPLE-STRUCTURED-LOCATION;VALUE=URI;X-ADDRESS=1 Maja 77\, Jelenia Góra\,
  58-500\, Poland;X-APPLE-RADIUS=100;X-TITLE=Skylab Music Club:geo:50.90239
 ,15.75506
END:VEVENT
BEGIN:VTIMEZONE
TZID:Europe/Warsaw
X-LIC-LOCATION:Europe/Warsaw
BEGIN:STANDARD
DTSTART:20181028T020000
TZOFFSETFROM:+0200
TZOFFSETTO:+0100
TZNAME:CET
END:STANDARD
END:VTIMEZONE
END:VCALENDAR