BEGIN:VCALENDAR
VERSION:2.0
PRODID:-//wp-events-plugin.com//7.2.3.1//EN
TZID:Europe/Warsaw
X-WR-TIMEZONE:Europe/Warsaw
BEGIN:VEVENT
UID:38502@night4u.pl
DTSTART;TZID=Europe/Warsaw:20191206T210000
DTEND;TZID=Europe/Warsaw:20191207T050000
DTSTAMP:20191206T161632Z
URL:https://night4u.pl/wydarzenia/studencki-melanz-piatek-06-12/
SUMMARY:Studencki Melanż // piątek 06.12
DESCRIPTION:HOHOHO! Czas na turbo klimatyczny melanż z prezentami. \nMiko
 łaj rusza do Nieba. Imprezujemy na 2 parkietach &lt\;3\n✅ STUDENCI FREE
  / do 24:00\n✅ OANIE FREE / do 22:30
ATTACH;FMTTYPE=image/jpeg:https://night4u.pl/wp-content/uploads/2019/12/10
 9996_image_79002410_2545059442392536_3064373055896682496_o.jpg
CATEGORIES:dolnośląskie
LOCATION:Seven Heaven Legnica\, kard. Bolesława Kominka 1\, Legnica\, 59-2
 20\, Poland
GEO:51.210306;16.152576
X-APPLE-STRUCTURED-LOCATION;VALUE=URI;X-ADDRESS=kard. Bolesława Kominka 1\
 , Legnica\, 59-220\, Poland;X-APPLE-RADIUS=100;X-TITLE=Seven Heaven Legnic
 a:geo:51.210306,16.152576
END:VEVENT
BEGIN:VTIMEZONE
TZID:Europe/Warsaw
X-LIC-LOCATION:Europe/Warsaw
BEGIN:STANDARD
DTSTART:20191027T020000
TZOFFSETFROM:+0200
TZOFFSETTO:+0100
TZNAME:CET
END:STANDARD
END:VTIMEZONE
END:VCALENDAR