BEGIN:VCALENDAR
VERSION:2.0
PRODID:-//wp-events-plugin.com//7.2.3.1//EN
TZID:Europe/Warsaw
X-WR-TIMEZONE:Europe/Warsaw
BEGIN:VEVENT
UID:18347@night4u.pl
DTSTART;TZID=Europe/Warsaw:20190606T210000
DTEND;TZID=Europe/Warsaw:20190607T040000
DTSTAMP:20190605T205406Z
URL:https://night4u.pl/wydarzenia/studencki_piknik_party_czwartek_letnia_w
 yspa/
SUMMARY:Studencki_PIKNIK_PARTY_Czwartek_LETNIA_WYSPA
DESCRIPTION:W ten czwartek balujemy na LETNIEJ WYSPIE !!!!. DJ SANT I DJ OZ
 I=dobra muza \, Kiełbaski i PIWO DO 23:00 po 3 zł. TAKI PIKNIK STUDENCKI
  TO JA SZANUJE .....\n\nStart 21:00\nWejscie FREE
ATTACH;FMTTYPE=image/jpeg:https://night4u.pl/wp-content/uploads/2019/06/44
 322_image_61750036_2355958384455500_1690792813274333184_o.jpg
CATEGORIES:lubelskie
LOCATION:Klub Gramofon\, Biała Podlaska\, Poland
GEO:52.03268;23.120489
X-APPLE-STRUCTURED-LOCATION;VALUE=URI;X-ADDRESS=Biała Podlaska\, Poland;X-
 APPLE-RADIUS=100;X-TITLE=Klub Gramofon:geo:52.03268,23.120489
END:VEVENT
BEGIN:VTIMEZONE
TZID:Europe/Warsaw
X-LIC-LOCATION:Europe/Warsaw
BEGIN:DAYLIGHT
DTSTART:20190331T030000
TZOFFSETFROM:+0100
TZOFFSETTO:+0200
TZNAME:CEST
END:DAYLIGHT
END:VTIMEZONE
END:VCALENDAR