BEGIN:VCALENDAR
VERSION:2.0
PRODID:-//wp-events-plugin.com//7.2.3.1//EN
TZID:Europe/Warsaw
X-WR-TIMEZONE:Europe/Warsaw
BEGIN:VEVENT
UID:48980@night4u.pl
DTSTART;TZID=Europe/Warsaw:20200305T180000
DTEND;TZID=Europe/Warsaw:20200306T030000
DTSTAMP:20200305T090533Z
URL:https://night4u.pl/wydarzenia/studenckie-czwartki-w-antrakcie-3/
SUMMARY:Studenckie Czwartki w Antrakcie !
DESCRIPTION:Studenckie Czwartki w Antrakcie !\n\nW soboty lokal pęka w szw
 ach ... Wychodząc naprzeciw oczekiwaniom Naszych Gości postanowiliśmy (
 ponieważ zazwyczaj Nasi stali dojrzali goście w tym dniu pracują lub za
 jmują się rodziną ) zaprosić osoby młodsze/studentów kochającą muz
 ykę lat 70'80'90'\, lubiące Nasz klimat\, którym bardzo podoba się Nas
 z wystrój lokalu\, ceniących sobie elegancję\, dobry smak i przede wszy
 stkim bezpieczeństwo\, profesjonalną obsługę w czwartki od godziny 18:
 00 do ostatniego gościa ...  \n\nStudenci ! Coś dla Was ! \nWstęp Grati
 s! Bilet jednorazowego wejścia dla jednej osoby w czwartek jest za darmo!
 \nPrzy okazaniu legitymacji mały prezencik przy barze \;)\n\nOprawę muzy
 czną w tym dniu zapewnia rezydent klubu Antrakt D.J. Fresh Marcin Kowalsk
 i ( znany z gorączki sobotniej nocy :)
ATTACH;FMTTYPE=image/jpeg:https://night4u.pl/wp-content/uploads/2020/03/16
 7808_image_86643495_1464984863676723_547246307446620160_o.jpg
CATEGORIES:łódzkie
LOCATION:Antrakt Club\, Zachodnia 95\, Łódź\, 90-721\, Poland
GEO:51.772595;19.452709
X-APPLE-STRUCTURED-LOCATION;VALUE=URI;X-ADDRESS=Zachodnia 95\, Łódź\, 90
 -721\, Poland;X-APPLE-RADIUS=100;X-TITLE=Antrakt Club:geo:51.772595,19.452
 709
END:VEVENT
BEGIN:VTIMEZONE
TZID:Europe/Warsaw
X-LIC-LOCATION:Europe/Warsaw
BEGIN:STANDARD
DTSTART:20191027T020000
TZOFFSETFROM:+0200
TZOFFSETTO:+0100
TZNAME:CET
END:STANDARD
END:VTIMEZONE
END:VCALENDAR