BEGIN:VCALENDAR
VERSION:2.0
PRODID:-//wp-events-plugin.com//7.2.3.1//EN
TZID:Europe/Warsaw
X-WR-TIMEZONE:Europe/Warsaw
BEGIN:VEVENT
UID:33582@night4u.pl
DTSTART;TZID=Europe/Warsaw:20191030T210000
DTEND;TZID=Europe/Warsaw:20191031T050000
DTSTAMP:20191030T230945Z
URL:https://night4u.pl/wydarzenia/studenckie-halloween-w-ultraviolet/
SUMMARY:Studenckie Halloween w UltraViolet!
DESCRIPTION:Witajcie studenci! \nJuż w najbliższą środę nasz klub cał
 kowicie się odmieni. \nNiezapomniany klimat\,świetna muzyka i masa promo
 cji które czekają na was przy barze : \n\n-50% wszystkie drinki z karty 
 do 23:00 \n-50% butelka wódki + sok \n-50% wybrane szoty  \n\nPamiętajci
 e że klikając - wezmę udział wchodzicie do nas zupełnie za darmo do g
 odziny 22:00! \n\nPo 22:00 studenci - 5 zł \nPozostali : 10 zł \n\n\nCuk
 ierek albo psikus? \nNa to pytanie odpowiemy wam najlepszą \nimprezą hal
 loweenową w Kielcach. \n\nZapraszajcie znajomych i widzimy się \n30 paź
 dziernika w klubie UltraViolet!\n\nDo zobaczenia :)
ATTACH;FMTTYPE=image/jpeg:https://night4u.pl/wp-content/uploads/2019/10/84
 400_image_75550427_2494288183951730_4980716008000978944_o.jpg
CATEGORIES:świętokrzyskie
LOCATION:UltraViolet - Exclusive Club\, ul. Sienkiewicza 33\, Kielce\, 25-0
 05\, Poland
GEO:50.87148;20.62637
X-APPLE-STRUCTURED-LOCATION;VALUE=URI;X-ADDRESS=ul. Sienkiewicza 33\, Kielc
 e\, 25-005\, Poland;X-APPLE-RADIUS=100;X-TITLE=UltraViolet - Exclusive Clu
 b:geo:50.87148,20.62637
END:VEVENT
BEGIN:VTIMEZONE
TZID:Europe/Warsaw
X-LIC-LOCATION:Europe/Warsaw
BEGIN:STANDARD
DTSTART:20191027T020000
TZOFFSETFROM:+0200
TZOFFSETTO:+0100
TZNAME:CET
END:STANDARD
END:VTIMEZONE
END:VCALENDAR