BEGIN:VCALENDAR
VERSION:2.0
PRODID:-//wp-events-plugin.com//7.2.3.1//EN
TZID:Europe/Warsaw
X-WR-TIMEZONE:Europe/Warsaw
BEGIN:VEVENT
UID:36189@night4u.pl
DTSTART;TZID=Europe/Warsaw:20191206T210000
DTEND;TZID=Europe/Warsaw:20191207T050000
DTSTAMP:20200401T080608Z
URL:https://night4u.pl/wydarzenia/studenckie-mikolajki-hollylodz-smile-3-a
 fter-party/
SUMMARY:Studenckie Mikołajki | HollyLodz Smile 3 after party
DESCRIPTION:[ENGLISH VERSION BELOW]\nHO HO HO 🦌🦌🦌\n\nZapraszamy Wa
 s na największe STUDENCKIE MIKOŁAJKI.\nWspólnie z całą szajką Mikoł
 aja rozgrzejemy parkiet do czerwoności 🎄🔥 \n\nGramy nieśmiertelne 
 świąteczne hity Last Christmas\, All I Want for Christmas Is You czy San
 ta Tell Me 🎅🎅🎅\n\nDodatkowo gościmy uczestników konferencji Hol
 lyŁódź Smile 3 | Międzynarodowa Konferencja Stomatologiczna 🦷\n____
 ______________________________\nStart: 21:00\nSala główna: Disco &amp\; 
 Pop &amp\; Dance 80s-10s \nMała sala: Legendarne Polskie Przeboje \nWstę
 p (18+):\nUczestnicy konferencji HollyLodz Smile 3[złote i czerwone opask
 i]: FREE całą noc\nKarty VIP: FREE całą\n\nInfo &amp\; Rezerwacje:\n
 ☎️ 666 020 100\nhttps://prywatkaklub.pl/rezerwacje\n__________________
 ________________\nChristmas is coming! 🎄\n\nThe biggest STUDENT'S SANTA
  CLAUS PARTY in Lodz 🎅\nTogether with Santa Claus and his band we will 
 bang the dancefloor 🔥\n\nWe will play the best Christmas hits of decade
 s Last Christmas\, All I Want for Christmas Is You czy Santa Tell Me\n\nYo
 u have to be with us this day!\n__________________________________\nStart:
  9:00 pm\nSala główna: Disco &amp\; Pop &amp\; Dance 80s-10s \nMała sal
 a: Polish hits\nWstęp (18+):\nVIP cards: FREE whole night\n\nInfo\n☎️
  666 020 100\nhttps://prywatkaklub.pl/rezerwacje
ATTACH;FMTTYPE=image/jpeg:https://night4u.pl/wp-content/uploads/2019/11/97
 704_image_74468114_541603286622828_6095569963332927488_o.jpg
CATEGORIES:łódzkie
LOCATION:Prywatka\, Andrzeja Struga 8/10\, Łódź\, 90-426\, Poland
GEO:51.765118;19.455113
X-APPLE-STRUCTURED-LOCATION;VALUE=URI;X-ADDRESS=Andrzeja Struga 8/10\, Łó
 dź\, 90-426\, Poland;X-APPLE-RADIUS=100;X-TITLE=Prywatka:geo:51.765118,19
 .455113
END:VEVENT
BEGIN:VTIMEZONE
TZID:Europe/Warsaw
X-LIC-LOCATION:Europe/Warsaw
BEGIN:STANDARD
DTSTART:20191027T020000
TZOFFSETFROM:+0200
TZOFFSETTO:+0100
TZNAME:CET
END:STANDARD
END:VTIMEZONE
END:VCALENDAR