BEGIN:VCALENDAR
VERSION:2.0
PRODID:-//wp-events-plugin.com//7.2.3.1//EN
TZID:Europe/Warsaw
X-WR-TIMEZONE:Europe/Warsaw
BEGIN:VEVENT
UID:48202@night4u.pl
DTSTART;TZID=Europe/Warsaw:20200221T220000
DTEND;TZID=Europe/Warsaw:20200222T040000
DTSTAMP:20200222T003327Z
URL:https://night4u.pl/wydarzenia/studenckie-ostatki-x-um-21-02-20/
SUMMARY:Studenckie ostatki x UM // 21.02.20
DESCRIPTION:Razem z Samorząd Studentów Uniwersytetu Medycznego w Lublinie
  zapraszamy wszystkich studentów na największe studenckie ostatki w Lubl
 inie!!!\n\n🍸Promocje przez całą noc🍹:\nCuba Libre 15PLN\nTequila S
 unrise 15PLN\nWhisky Sour 15PLN\nVodka Sour 15PLN\nKamikaze 4szt 15PLN\nJa
 germeister 10PLN\nAbsolut 0.7L + 1L soft 120PLN\n\nThe Mist Club\nul. Okop
 owa 5\n21.02.2020\n\nSTART 22:00-4:00\n\nPrzedsprzedaż biletów🔥❗️
  5PLN ❗️  \nDo nabycia w biurze Samorządu w DS 4\, ul. Chodźki 13B\,
  poziom -1 za xero w następujących godzinach:\nAvailable for purchase at
  the local government office in DS 4\, 13B Chodźki Street\, level -1 next
  to xero office in the following hours:\n\nWtorek/Tuesday: 14:00 - 19:00\n
 Środa/Wednesday: 14:00 - 18:00\nCzwartek/Thuraday: 14:00 - 18:00\nPiątek
 /Friday: 12:30 - 16:00\n\nWejście/ Entrance: \n22:00-23:00 - 10PLN\nAfter
  23:00 -15 PLN\n\nWejście do lokalu tylko dla osób pełnoletnich.\n\nBil
 ety kupione w przedsprzedaży mają pierszeństwo wejścia do klubu.\nTick
 ets bought in presale are priority pass.\n\nRezerwacje miejsc / Seats &amp
 \; tables:\n💬 Messenger \n📧 club@themistclub.eu\n☎ +48 693 853 446
ATTACH;FMTTYPE=image/jpeg:https://night4u.pl/wp-content/uploads/2020/02/16
 2717_image_86695011_534770534058530_9179142858777559040_o.jpg
CATEGORIES:lubelskie
LOCATION:The Mist Club\, Okopowa 5\, Lublin\, 20-022\, Poland
GEO:51.246111;22.556115
X-APPLE-STRUCTURED-LOCATION;VALUE=URI;X-ADDRESS=Okopowa 5\, Lublin\, 20-022
 \, Poland;X-APPLE-RADIUS=100;X-TITLE=The Mist Club:geo:51.246111,22.556115
END:VEVENT
BEGIN:VTIMEZONE
TZID:Europe/Warsaw
X-LIC-LOCATION:Europe/Warsaw
BEGIN:STANDARD
DTSTART:20191027T020000
TZOFFSETFROM:+0200
TZOFFSETTO:+0100
TZNAME:CET
END:STANDARD
END:VTIMEZONE
END:VCALENDAR