BEGIN:VCALENDAR
VERSION:2.0
PRODID:-//wp-events-plugin.com//7.2.3.1//EN
TZID:Europe/Warsaw
X-WR-TIMEZONE:Europe/Warsaw
BEGIN:VEVENT
UID:28848@night4u.pl
DTSTART;TZID=Europe/Warsaw:20191017T220000
DTEND;TZID=Europe/Warsaw:20191018T050000
DTSTAMP:20191017T103213Z
URL:https://night4u.pl/wydarzenia/studenckie-otrzesiny-2019/
SUMMARY:Studenckie Otrzęsiny 2019
DESCRIPTION:Uwaga Studenci! 👩🏼‍🎓👨🏻‍🎓\n\nJuż 17 paźd
 ziernika odbędą się Studenckie Otrzęsiny 2019!\n\nZapraszamy studentó
 w wszystkich uczelni i kierunków na wspólną zabawę i integrację - ide
 alna okazja na zawarcie nowych znajomości\, szczególnie dla pierwszorocz
 niaków!\n\nCzekają na Was liczne konkursy z nagrodami oraz promocje na b
 arze\, odpowiadające każdej studenckiej kieszeni 🍸🎉\n\nStudenci: w
 stęp FREE.\nPozostali: 10 zł.
ATTACH;FMTTYPE=image/jpeg:https://night4u.pl/wp-content/uploads/2019/09/66
 708_image_71883631_10162260866175111_3564663422199005184_o.jpg
CATEGORIES:zachodniopomorskie
LOCATION:City Hall Club\, 3 MAJA 18\, Szczecin\, 70-215\, Poland
GEO:53.420078;14.549235
X-APPLE-STRUCTURED-LOCATION;VALUE=URI;X-ADDRESS=3 MAJA 18\, Szczecin\, 70-2
 15\, Poland;X-APPLE-RADIUS=100;X-TITLE=City Hall Club:geo:53.420078,14.549
 235
END:VEVENT
BEGIN:VTIMEZONE
TZID:Europe/Warsaw
X-LIC-LOCATION:Europe/Warsaw
BEGIN:DAYLIGHT
DTSTART:20190331T030000
TZOFFSETFROM:+0100
TZOFFSETTO:+0200
TZNAME:CEST
END:DAYLIGHT
END:VTIMEZONE
END:VCALENDAR