BEGIN:VCALENDAR
VERSION:2.0
PRODID:-//wp-events-plugin.com//7.2.3.1//EN
TZID:Europe/Warsaw
X-WR-TIMEZONE:Europe/Warsaw
BEGIN:VEVENT
UID:23004@night4u.pl
DTSTART;TZID=Europe/Warsaw:20191002T210000
DTEND;TZID=Europe/Warsaw:20191003T040000
DTSTAMP:20190724T175654Z
URL:https://night4u.pl/wydarzenia/studenckie-otrzesiny-rzeszowa-x-2-kluby-
 x-lista-facebook-free/
SUMMARY:Studenckie Otrzęsiny Rzeszowa x 2 kluby x Lista Facebook Free
DESCRIPTION:Witajcie Studenci❗\n\nMamy zaszczyt zaprosić Was na najwięk
 szą imprezę rozpoczynającą rok akademicki ? Wykład Zaliczony & Drugi 
 Termin łączą siły i prezentują Studenckie Otrzęsiny Rzeszowa! Będzi
 emy się bawić w dwóch najlepszych klubach w Rzeszowie - Grand Club i BA
 JKA DISCO CLUB Rzeszów ? Jeden bilet pozwala bawić się w obu klubach❗
 \n\nTysiące studentów\, najlepsza muzyka\, wyjątkowe atrakcje i przede 
 wszystkim Wielka Studencka Integracja❗ ?\n\nDołączajcie do wydarzenia\
 , zapraszajcie znajomych\, udostępniajcie. Lecimy z największa bibą w R
 zeszowie! ?\n\nWidzimy się❗\n\n------------- ☑ WSTĘP FREE ☑ ------
 -------\n\nWszyscy\, którzy:\n\n• WEZMĄ UDZIAŁ w wydarzeniu\, \n• P
 OLUBIĄ Wykład Zaliczony i Drugi Termin\n\nwchodzą do klubu do 21:30 za 
 FREE! \n\nLista FB zostaje zamknięta o 14:00 w dniu 2.10.19 r.\n\n-------
 ------ ☑ REZERWACJE ☑ -------------\n\nLoże możecie zarezerwować:\n
 • Bajka - tel. 575 536 992\n• Grand - tel. (017) 853 30 35\n\n--------
 ----- ☑ SZCZEGÓŁY ☑ -------------\n\nData: 2 października (środa)\
 , 21:00\n\nKluby: \nGrand Club\, ul. Kościuszki 9\nBAJKA DISCO CLUB Rzesz
 ów\, ul. Piłsudskiego 34\n\nSelekcja: 18+\n\nWstęp:\nLista FB:\n21:00-2
 1:30 - 0 PLN\n21:31-22:00 - 10 PLN\n22:01-22:30 - 15 PLN\n22:31-... - 20 P
 LN\n\nPozostali:\n21:00-21:30 - 10 PLN\n21:31-... - 20 PLN\n\nDo zobaczeni
 a!\n\n-------------\nOrganizatorzy zastrzegają sobie prawo do selekcji go
 ści.
ATTACH;FMTTYPE=image/jpeg:https://night4u.pl/wp-content/uploads/2019/07/54
 355_image_67476732_2728876990464706_6068929840268967936_o.jpg
CATEGORIES:podkarpackie
END:VEVENT
BEGIN:VTIMEZONE
TZID:Europe/Warsaw
X-LIC-LOCATION:Europe/Warsaw
BEGIN:DAYLIGHT
DTSTART:20190331T030000
TZOFFSETFROM:+0100
TZOFFSETTO:+0200
TZNAME:CEST
END:DAYLIGHT
END:VTIMEZONE
END:VCALENDAR