BEGIN:VCALENDAR
VERSION:2.0
PRODID:-//wp-events-plugin.com//7.2.3.1//EN
TZID:Europe/Warsaw
X-WR-TIMEZONE:Europe/Warsaw
BEGIN:VEVENT
UID:21447@night4u.pl
DTSTART;TZID=Europe/Warsaw:20191023T220000
DTEND;TZID=Europe/Warsaw:20191024T050000
DTSTAMP:20200401T080832Z
URL:https://night4u.pl/wydarzenia/studenckie-otrzesiny-wroclawia-x-lista-m
 essenger-free/
SUMMARY:Studencka Integracja Wrocławia x Lista Facebook Free
DESCRIPTION:LISTA FB jest zamykana 23 października o godzinie 14:00!\n\nWi
 tajcie Studenci❗ \n\nNie ma na co czekać\, po Otrzęsinach szykujemy dl
 a Was kolejną imprezę! Motywem przewodnim będzie Wielka Studencka Integ
 racja! Bawimy się\, poznajemy się\, imprezujemy! 😎\n\nObecność dla 
 wszystkich imprezowych studentów obowiązkowa! Pamiętajcie\, nie ma spin
 y\, są DRUGIE TERMINY!\n\nWidzimy się! 👉😎\n\n------------- ☑ WST
 ĘP FREE ☑ -------------\n\nWszyscy\, którzy:\n\n• WEZMĄ UDZIAŁ w w
 ydarzeniu\, \n• POLUBIĄ Drugi Termin\n\nwchodzą do klubu do 22:30 za F
 REE! \n\nLista FB zostaje zamknięta o 14:00 w dniu 23.10.19 r.\n\n-------
 ------ ☑ SZCZEGÓŁY ☑ -------------\n\nData: 23 października (środa
 )\, 22:00\n\nKlub: \nX-Demon - Wrocław\n\nSelekcja: 18+\n\nWstęp:\nLista
  FB:\n22:00-22:30 - 0 PLN\n22:31-23:00 - 10 PLN\n23:01-... - 20 PLN\n\nPoz
 ostali:\n22:00-23:00 - 10 PLN\n23:01-... - 20 PLN\n\nDo zobaczenia!\n\n---
 ----------\nOrganizatorzy zastrzegają sobie prawo do selekcji gości.
ATTACH;FMTTYPE=image/jpeg:https://night4u.pl/wp-content/uploads/2019/10/51
 101_image_74449336_2916319115053825_4405640966766067712_o.jpg
CATEGORIES:dolnośląskie
LOCATION:X-Demon - Wrocław\, \, 
X-APPLE-STRUCTURED-LOCATION;VALUE=URI;X-ADDRESS=\, ;X-APPLE-RADIUS=100;X-TI
 TLE=X-Demon - Wrocław:geo:0,0
END:VEVENT
BEGIN:VTIMEZONE
TZID:Europe/Warsaw
X-LIC-LOCATION:Europe/Warsaw
BEGIN:DAYLIGHT
DTSTART:20190331T030000
TZOFFSETFROM:+0100
TZOFFSETTO:+0200
TZNAME:CEST
END:DAYLIGHT
END:VTIMEZONE
END:VCALENDAR