BEGIN:VCALENDAR
VERSION:2.0
PRODID:-//wp-events-plugin.com//7.2.3.1//EN
TZID:Europe/Warsaw
X-WR-TIMEZONE:Europe/Warsaw
BEGIN:VEVENT
UID:39866@night4u.pl
DTSTART;TZID=Europe/Warsaw:20200129T190000
DTEND;TZID=Europe/Warsaw:20200130T010000
DTSTAMP:20200129T173922Z
URL:https://night4u.pl/wydarzenia/studenckie-srody-x-funky-monkey-x-tanie-
 piwo-quizy-beer-pong/
SUMMARY:Studenckie Środy x Funky Monkey x tanie piwo\, quizy\, beer pong
DESCRIPTION:W tym tygodniu zrobi się hiszpańsko! 🇪🇸🇪🇸\n\nZapr
 aszamy na:\n🇪🇸 karaoke\n🇪🇸 hiszpański quiz\n🇪🇸 hiszpań
 ską muzę do tańca\n🕹️ gry retro\n\ni standardowe:\n💥 Piwo od go
 dziny 17.00 dla studentów po okazaniu legitymacji w cenie 5 zł za 0\,4 l
 \n💥 4 x shot w cenie 10 zł\n💥 koktajl studencki w cenie 10 zł\n
 💥 INDEKS - przy kolejnych 3 wizytach rachunek na min. 25 zł wymień na
  pieczątkę. 3 pieczątki - na czwartej wizycie wymieniamy na butle szot
 ów\n💥 Beer Pong - dzban piwa 2\,5l + 20 czerwonych kubeczków + dwie p
 iłeczki w cenie 45 zł\n💥 sam dzban piwa - 35 zł\n💥 Frizzante 1l -
  40 zł\n💥 planszówki\n💥 alkostatki\n💥 alkowarcaby\n💥 piłkar
 zyki\n💥 karaoke / quiz - na zmianę. Info przed startem każdego tygodn
 ia\n\nRegulamin promocji "INDEKS": http://bit.ly/37zxhd3
ATTACH;FMTTYPE=image/jpeg:https://night4u.pl/wp-content/uploads/2020/01/14
 0787_image_73381152_809638166118932_4172599782201622528_o-1.jpg
CATEGORIES:pomorskie
LOCATION:Stacja Food Hall\, Jana Kilińskiego\, 4\, Gdansk\, 80-452\, Polan
 d
GEO:54.38213;18.60627
X-APPLE-STRUCTURED-LOCATION;VALUE=URI;X-ADDRESS=Jana Kilińskiego\, 4\, Gda
 nsk\, 80-452\, Poland;X-APPLE-RADIUS=100;X-TITLE=Stacja Food Hall:geo:54.3
 8213,18.60627
END:VEVENT
BEGIN:VTIMEZONE
TZID:Europe/Warsaw
X-LIC-LOCATION:Europe/Warsaw
BEGIN:STANDARD
DTSTART:20191027T020000
TZOFFSETFROM:+0200
TZOFFSETTO:+0100
TZNAME:CET
END:STANDARD
END:VTIMEZONE
END:VCALENDAR