BEGIN:VCALENDAR
VERSION:2.0
PRODID:-//wp-events-plugin.com//7.2.3.1//EN
TZID:Europe/Warsaw
X-WR-TIMEZONE:Europe/Warsaw
BEGIN:VEVENT
UID:40009@night4u.pl
DTSTART;TZID=Europe/Warsaw:20200213T210000
DTEND;TZID=Europe/Warsaw:20200214T043000
DTSTAMP:20200213T180304Z
URL:https://night4u.pl/wydarzenia/studenckie-walentynki-polowinki-%e2%98%8
 6-pacha-%e2%98%86-13-02-%e2%98%86-lista-fb-%e2%98%86/
SUMMARY:Studenckie Walentynki - Połowinki ☆ Pacha ☆ 13.02 ☆ Lista FB
  ☆
DESCRIPTION:💘💙💖 STUDENCKIE WALENTYNKI 💘💙💖\n🥂🍹🍸  
 WALE DRINKI w Połowinki - 2 edycja! 🥂🍹🍸\n\nTwórca Poznańska In
 tegracja Studencka ma zaszczyt zaprosić was na kolejną imprezę w Poznan
 iu!! - Tym razem będzie to impreza \n💙 Walentynkowo-Połowinkowa 💙 
 Data szczególna - noc z 13.02 / 14/02 💘 i połowa  roku akademickiego 
 🎓🎓✌️\n\n☞ Rozdamy wam opaski wolny/a\, zajęty/a\, dziś się 
 bawię! 🙈🙊\n\n---------------------------------------------------\n
 🔈 KLUB W KTÓRYM SIĘ BAWIMY 🔈\n☢ Pacha Poznań (ul. Paderewskiego
  10)  💃🎉\n\n--- ☑📢   LISTA "WEZMĘ UDZIAŁ" do g. 22:00  - 10 P
 LN ☑ ---\n\nWszyscy\, którzy:\n\n• WEZMĄ UDZIAŁ w wydarzeniu\, (lic
 zy się tylko "WEZMĘ UDZIAŁ")\n• POLUBIĄ naszą stronę:  Poznańska 
 Integracja Studencka\n\n...wchodzą do klubu do 22:00 za 10 PLN! \n\nLista
  "Wezmę Udział: zostanie zamknięta o godz. 23:00 w dniu 11.02.2020 r.\n
 \nPozostali za wejście płacą 20 PLN! Po godz. 22:00 bez względu na lis
 tę "Wezmę Udział" wszyscy płacą 20 PLN! \n\n-------------------------
 -------------------------------\nZeszłoroczna edycja przyciągnęła 1000
  osób 🙈\nW tym roku nie może Ciebie zabraknąć!
ATTACH;FMTTYPE=image/jpeg:https://night4u.pl/wp-content/uploads/2019/12/12
 0499_image_79938821_2497054930576881_4580940696902434816_o.jpg
CATEGORIES:wielkopolskie
END:VEVENT
BEGIN:VTIMEZONE
TZID:Europe/Warsaw
X-LIC-LOCATION:Europe/Warsaw
BEGIN:STANDARD
DTSTART:20191027T020000
TZOFFSETFROM:+0200
TZOFFSETTO:+0100
TZNAME:CET
END:STANDARD
END:VTIMEZONE
END:VCALENDAR