BEGIN:VCALENDAR
VERSION:2.0
PRODID:-//wp-events-plugin.com//7.2.3.1//EN
TZID:Europe/Warsaw
X-WR-TIMEZONE:Europe/Warsaw
BEGIN:VEVENT
UID:44013@night4u.pl
DTSTART;TZID=Europe/Warsaw:20200213T220000
DTEND;TZID=Europe/Warsaw:20200214T060000
DTSTAMP:20200331T151225Z
URL:https://night4u.pl/wydarzenia/studenckie-walentynki-x-demon-wroclaw/
SUMMARY:Studenckie Walentynki // Mikro &amp\; MeisaL
DESCRIPTION:Studenckie Walentynki ❤️\nMusic: Mikro &amp\; MeisaL\n\nPro
 mocja 3 x 5 zł - wódka\, piwo i whisky - całą noc!\nStudenci WSTĘP FR
 EE\nRezerwacja lóż www.wroclaw.xdemon.pl\nSelekcja +18
ATTACH;FMTTYPE=image/jpeg:https://night4u.pl/wp-content/uploads/2020/02/14
 1593_image_82023739_1266458450205498_4534270074730577920_o.jpg
CATEGORIES:dolnośląskie
LOCATION:X-Demon - Wrocław\, \, 
X-APPLE-STRUCTURED-LOCATION;VALUE=URI;X-ADDRESS=\, ;X-APPLE-RADIUS=100;X-TI
 TLE=X-Demon - Wrocław:geo:0,0
END:VEVENT
BEGIN:VTIMEZONE
TZID:Europe/Warsaw
X-LIC-LOCATION:Europe/Warsaw
BEGIN:STANDARD
DTSTART:20191027T020000
TZOFFSETFROM:+0200
TZOFFSETTO:+0100
TZNAME:CET
END:STANDARD
END:VTIMEZONE
END:VCALENDAR