BEGIN:VCALENDAR
VERSION:2.0
PRODID:-//wp-events-plugin.com//7.2.3.1//EN
TZID:Europe/Warsaw
X-WR-TIMEZONE:Europe/Warsaw
BEGIN:VEVENT
UID:40657@night4u.pl
DTSTART;TZID=Europe/Warsaw:20200213T210000
DTEND;TZID=Europe/Warsaw:20200214T050000
DTSTAMP:20200213T180413Z
URL:https://night4u.pl/wydarzenia/studenckie-walentynki-ze-stiflerem-wstep
 -free-lista-free/
SUMMARY:Studenckie Walentynki ze Stiflerem - wstęp Free (lista Free)
DESCRIPTION:❗❕❗❕❗❕ KAŻDY ZAPISANY DO WYDARZENIA WCHODZI ZA DAR
 MO! ❕❗❕❗❕❗\n\nWarszawskie Melanże wraz z University Of The PA
 RTY ruszają po nowym roku z niemałą niespodzianką 💘💘💘!\nNieza
 pomniany melanż\, podczas którego zrobicie sobie pamiątkowe zdjęcie i 
 zbijecie piątkę ze Stiflerem na parkiecie 😎! Co więcej? Wóda\, drin
 ki i club Mirage😍😍😍! W skrócie - mamy wszystko czego dusza zapra
 gnie :D!\n\n➡️ Mamy jak zawsze jedną prostą zasadę - wchodzicie do 
 klubu i dostajecie od nas świecące w ciemności gadżety\, a w tym dla c
 hętnych opaski fluo! Do wyboru trzy kolory oznaczające:\n😇 CZERWONY -
  jestem zajęty/a!\n😈 POZOSTAŁE KOLORY - jestem wolny/a i szukam dziś
  zabawy!\nJeśli jesteście nieśmiali nie musicie brać opasek. Nie są o
 ne obowiązkowe. Zamiast tego możecie zgarnąć wiele innych fluo dodatk
 ów\, aby lepiej bawić się tej nocy!\n➡️I najważniejsze - morze alk
 oholu dostępnego na barze - on na pewno się nie skończy! 🥃🍾🍺\n
 \n\n❗❕Kiedy:\n13 lutego 2020\n\n❗❕Gdzie:\nMirage Club - zdecydowan
 ie najlepszy lokal w mieście 😀!\n\nPodczas STUDENCKICH WALENTYNEK! ka
 żdy imprezowicz znajdzie coś dla siebie – od mocno elektronicznych dź
 więków\, przez hiphopowe bity\, aż po zupełnie alternatywne rytmy.\n\n
 \n❗❕ WJAZD:\n21-22 wszyscy z listy FB wchodzą za FREE/ pozostali 20PL
 N\n22-23 wszyscy z listy FB 10PLN / Pozostali 20PLN\npo 23:00 wszyscy z li
 sty FB 10PLN / Pozostali 20PLN\nPod uwagę brane są jedynie osoby\, któr
 e zapiszą się na listę "Wezmę udział". Listę zamykamy o 15:00 w dniu
  imprezy.\n\n\n▀▀▀▀▀▀▀▀▀▀▀▀▀▀▀▀▀▀▀
 ▀▀▀▀▀▀▀▀▀▀▀▀▀▀▀▀▀▀▀▀▀▀\nCHCESZ
  DARMOWE ALKO?\n- zaproś do wydarzenia WSZYSTKICH swoich znajomych (minim
 um 300) - możesz skorzystać z wtyczki do Google Chrome i zrobić to jedn
 ym kliknięciem (link poniżej)\,\n- następnie UDOSTĘPNIJ to wydarzenie 
 na swojej tablicy\,\n- na koniec napisz na tablicy wydarzenia stan licznik
 a osób zaproszonych do wydarzenia przed Twoim zapraszaniem i po zapraszan
 iu (np. „zaproszonych przed 2350\, po 2700”)\,\nTo wszystko! NA WEJŚC
 IU DOSTAJESZ OD NAS DARMOWEGO DRINKA!\n▄▄▄▄▄▄▄▄▄▄▄
 ▄▄▄▄▄▄▄▄▄▄▄▄▄▄▄▄▄▄▄▄▄▄▄▄
 ▄▄▄▄▄▄
ATTACH;FMTTYPE=image/jpeg:https://night4u.pl/wp-content/uploads/2019/12/12
 3485_image_79859459_3091815444166396_874422373296635904_o.jpg
CATEGORIES:mazowieckie
LOCATION:Club Mirage\, Plac Defilad 1\, Warsaw\, 00-901\, Poland
GEO:52.230917;21.003791
X-APPLE-STRUCTURED-LOCATION;VALUE=URI;X-ADDRESS=Plac Defilad 1\, Warsaw\, 0
 0-901\, Poland;X-APPLE-RADIUS=100;X-TITLE=Club Mirage:geo:52.230917,21.003
 791
END:VEVENT
BEGIN:VTIMEZONE
TZID:Europe/Warsaw
X-LIC-LOCATION:Europe/Warsaw
BEGIN:STANDARD
DTSTART:20191027T020000
TZOFFSETFROM:+0200
TZOFFSETTO:+0100
TZNAME:CET
END:STANDARD
END:VTIMEZONE
END:VCALENDAR