BEGIN:VCALENDAR
VERSION:2.0
PRODID:-//wp-events-plugin.com//7.2.3.1//EN
TZID:Europe/Warsaw
X-WR-TIMEZONE:Europe/Warsaw
BEGIN:VEVENT
UID:26812@night4u.pl
DTSTART;TZID=Europe/Warsaw:20191004T220000
DTEND;TZID=Europe/Warsaw:20191005T050000
DTSTAMP:20190906T185153Z
URL:https://night4u.pl/wydarzenia/studenckie-wesele-integracyjne-w-szczeci
 nie/
SUMMARY:Studenckie wesele integracyjne w Szczecinie!
DESCRIPTION:Witajcie Studenci!\nWitaj Nowy Roku Akademicki! \n\nNa wejściu
  przywitamy Was kieliszkiem szampana\, po czym zabierzemy w wir niezapomni
 anej zabawy.\n\nJako\, że to nasz pierwszy wspólny weekend razem - za ok
 azaniem legitymacji studenckiej otrzymywać będziecie od nas na wejściu 
 karty klubowe\, uprawniające do darmowego wstępu na wszystkie nasze impr
 ezy oraz do stałego rabatu na barze!\n\nW trakcie nocy nie zabraknie oczy
 wiście studenckich oczepin\, wraz z wyborem nowej pary młodej\, wężyka
  oraz największych weselnych przebojów :)\n\n♥♥♥♥♥♥♥♥♥
 ♥♥♥♥♥♥♥\n▬▬▬▬▬▬▬▬▬▬▬▬▬▬▬▬▬
 ▬▬▬▬▬▬▬▬▬▬▬\n\nWstęp:\n[18+] - wyłącznie za okaza
 niem dokumentu tożsamości\n\n22:00-23:00 (Lista Fb) - free\nPozostali - 
 10 PLN\n\n✮ Karty klubowe Gorzko Gorzko - darmowy wstęp przez całą no
 c (jedna/uniwersalna karta do wszystkich naszych lokali) ✮\n\nBez stroju
  formalnego\, ubierz się tak jak Ci wygodnie.\nRzecz jasna nie zakładamy
  dresów\, bojówek\, itp. strojów\, które zostawiamy sobie na wypad na 
 domek za miasto.\n\n▬▬▬▬▬▬▬▬▬▬▬▬▬▬▬▬▬▬
 ▬▬▬▬▬▬▬▬▬▬\n\nGorzko Gorzko Szczecin to klub\, w któr
 ym w każdy Piątek i Sobotę odbywają się dyskoteki weselne.\nWodzirej\
 , fotobudka\, muzyka i zabawy weselne\, przekąski oraz powitalny szampan.
 \nTo tylko część z atrakcji\, których u nas doświadczycie.\n\nHej wes
 ele\, hej wesele tańcowało... !
ATTACH;FMTTYPE=image/jpeg:https://night4u.pl/wp-content/uploads/2019/09/62
 528_image_67590449_2111058869022427_8616481686072328192_o.jpg
CATEGORIES:zachodniopomorskie
LOCATION:Gorzko Gorzko Szczecin\, Kardynała Stefana Wyszyńskiego 14\, Szc
 zecin\, 70-001\, Poland
GEO:53.423945;14.552926
X-APPLE-STRUCTURED-LOCATION;VALUE=URI;X-ADDRESS=Kardynała Stefana Wyszyńs
 kiego 14\, Szczecin\, 70-001\, Poland;X-APPLE-RADIUS=100;X-TITLE=Gorzko Go
 rzko Szczecin:geo:53.423945,14.552926
END:VEVENT
BEGIN:VTIMEZONE
TZID:Europe/Warsaw
X-LIC-LOCATION:Europe/Warsaw
BEGIN:DAYLIGHT
DTSTART:20190331T030000
TZOFFSETFROM:+0100
TZOFFSETTO:+0200
TZNAME:CEST
END:DAYLIGHT
END:VTIMEZONE
END:VCALENDAR