BEGIN:VCALENDAR
VERSION:2.0
PRODID:-//wp-events-plugin.com//7.2.3.1//EN
TZID:Europe/Warsaw
X-WR-TIMEZONE:Europe/Warsaw
BEGIN:VEVENT
UID:49484@night4u.pl
DTSTART;TZID=Europe/Warsaw:20200312T210000
DTEND;TZID=Europe/Warsaw:20200313T040000
DTSTAMP:20200311T230840Z
URL:https://night4u.pl/wydarzenia/student-nie-wielblad-wypic-czasem-musi/
SUMMARY:Student Nie Wielbłąd Wypić Czasem Musi!
DESCRIPTION:Kochani Studenci!🙂\n\nDoskonale zdajemy sobie sprawę\, że 
 alkohol pełni nieprawdopodobnie ważną funkcję w życiu każdego z Was 
 i nie potrzebujecie konkretnej okazji\, by delektować się jego wspaniał
 ym smakiem. Dlatego 12 marca zapraszamy Was na kolejny Studencki czwartek 
 w Masce!💪😁\n\nTego wieczoru Niegrzeczni Chłopcy nie pozwolą wam ta
 k łatwo zejść z parkietu\, szef baru Szczuki przypilnuje\, by Wasz ulub
 iony trunek był zawsze idealnie zmrożony\, a gość specjalny w turbanie
  zadba\, byście trzeźwi do domu nie wrócili.👳‍♂️😋\n\nOczywi
 ście podczas tego wieczoru nie zabraknie również:\n- Opasek fluorestenc
 yjnych\n- Konfetti\n- Czerwonych kubeczów\n- Konkursów z nagrodami\n- Fo
 torelacji\n- Studenckich promocji\n\nDo zobaczenia!😉\n\n\n\nWstęp:\n21
 :00-22:00 - Lista FB(Wezmę Udział) + Studenci-wejście FREE\n22:00-23:00
  - Lista FB(Wezmę Udział)+ Studenci - 5 PLN\n23:00-… - Studenci - 10 P
 LN\n\n\nPozostali:\nPanie - 10 PLN\nPanowie - 20 PLN\n\n\nDarmowa lista FB
  (Wezmę Udział) zamykamy o 18:00 w dniu imprezy.
ATTACH;FMTTYPE=image/jpeg:https://night4u.pl/wp-content/uploads/2020/03/17
 1725_image_89002360_2951838388216588_8292859374947270656_o.jpg
CATEGORIES:świętokrzyskie
LOCATION:MASKA Incognito Club\, Rynek 5\, Kielce\, 25-303\, Poland
GEO:50.871945;20.632092
X-APPLE-STRUCTURED-LOCATION;VALUE=URI;X-ADDRESS=Rynek 5\, Kielce\, 25-303\,
  Poland;X-APPLE-RADIUS=100;X-TITLE=MASKA Incognito Club:geo:50.871945,20.6
 32092
END:VEVENT
BEGIN:VTIMEZONE
TZID:Europe/Warsaw
X-LIC-LOCATION:Europe/Warsaw
BEGIN:STANDARD
DTSTART:20191027T020000
TZOFFSETFROM:+0200
TZOFFSETTO:+0100
TZNAME:CET
END:STANDARD
END:VTIMEZONE
END:VCALENDAR