BEGIN:VCALENDAR
VERSION:2.0
PRODID:-//wp-events-plugin.com//7.2.3.1//EN
TZID:Europe/Warsaw
X-WR-TIMEZONE:Europe/Warsaw
BEGIN:VEVENT
UID:30686@night4u.pl
DTSTART;TZID=Europe/Warsaw:20191102T220000
DTEND;TZID=Europe/Warsaw:20191103T090000
DTSTAMP:20191103T005403Z
URL:https://night4u.pl/wydarzenia/subbass-session-4/
SUMMARY:Subbass Session™
DESCRIPTION:Wracamy po przerwie! Zagramy na dwie sceny\, po między którym
 i techno spotka drum'n'bass.\n\nLine-up:\n\nMAIN [D'N'B]\n- Jazzu [New Moo
 n / Mielec]\n- Acme [New Moon / Mielec]\n- Stereo Typy [Krosno]\n- Herman 
 [Subbass Session / Rze]\n- Kael [Subbass Session / Rze]\n\nBAR [TECHNO/MIN
 IMAL/ACID]\n- AcidFlux [Space Records / Meksyk]\n- bArt [Arytmia / Rze]\n-
  Atak [Selektronika / Wawa]\n- Ctrl_s [Subbass Session / Rze]\n- Siara [Su
 bbass Session / Rze]\n\nMore info soon! Keep on dancing\, keep on smiling\
 , keep on ravin'!
ATTACH;FMTTYPE=image/jpeg:https://night4u.pl/wp-content/uploads/2019/10/70
 783_image_71758500_2088918864544394_1178177226567319552_o.jpg
CATEGORIES:podkarpackie
LOCATION:Klub Vinyl\, Fredry 4\, Rzeszów\, 35-005\, Poland
GEO:50.03998;22.00741
X-APPLE-STRUCTURED-LOCATION;VALUE=URI;X-ADDRESS=Fredry 4\, Rzeszów\, 35-00
 5\, Poland;X-APPLE-RADIUS=100;X-TITLE=Klub Vinyl:geo:50.03998,22.00741
END:VEVENT
BEGIN:VTIMEZONE
TZID:Europe/Warsaw
X-LIC-LOCATION:Europe/Warsaw
BEGIN:STANDARD
DTSTART:20191027T020000
TZOFFSETFROM:+0200
TZOFFSETTO:+0100
TZNAME:CET
END:STANDARD
END:VTIMEZONE
END:VCALENDAR