BEGIN:VCALENDAR
VERSION:2.0
PRODID:-//wp-events-plugin.com//7.2.3.1//EN
TZID:Europe/Warsaw
X-WR-TIMEZONE:Europe/Warsaw
BEGIN:VEVENT
UID:14183@night4u.pl
DTSTART;TZID=Europe/Warsaw:20190718T180000
DTEND;TZID=Europe/Warsaw:20190718T230000
DTSTAMP:20190429T194947Z
URL:https://night4u.pl/wydarzenia/suicideboys-official-event-klub-studio-1
 8-07-2019/
SUMMARY:Suicideboys Official Event\, klub Studio\, 18.07.2019
DESCRIPTION:$UICIDEBOY$\n17 lipca – Poznań\, klub muzyczny B17\n18 lipca
  – Kraków\, klub Studio\n\nBilety dostępne będą w ogólnej sprzedaż
 y od wtorku\, 30 kwietnia od 10:00 na Stodola.pl oraz  LiveNation.pl.\n\nD
 uet raperów z Nowego Orleanu $uicideboy$ powstał w 2014 roku. Kuzyni Rub
 y da Cherry i $lick $loth dorastali razem na wschodnim i zachodnim brzegu 
 Crescent City. Początkowo ich kariera muzyczna biegła w różnych kierun
 kach. Ruby (aka Suicide Leopard) interesował się punk rockiem\, a inspir
 acją muzyczną dla niego był Misfits\, Minor Threat i Leftover Crack. Ty
 mczasem $lick (aka Suicide Christ) był DJ-em i autorem piosenek. Z połą
 czenia sił powstała mieszanka horrorcore ze złowieszczą atmosferą i o
 kultystycznymi\, wyuzdanymi rymami. Podpisany w G59 Records\, wydali ambit
 ną\, dziesięcioczęściową serię "Kill Your$elf"\, z tytułami takimi 
 jak The $uicide $aga\, The $eppuku $aga i Re$$urection. Wydali dodatkowe E
 P-ki\, takie jak Black $uicide (z Black Smurf)\, Grey Sheep\, G.R.E.Y.G.O.
 D.S.\, i My Liver Will Handle What My Heart Can't w 2015 roku. Radical $ui
 cide\, ich 29. wydanie\, pojawiło się latem 2016 roku. EP-ka z pięcioma
  trackami wyprodukowana przez Gettera osiągnęła 17 miejsce na liście B
 illboard Rap. W 2017 roku duet ożywił swoją serię wydając Kill Yourse
 lf\, Pt. 11: The Kingdom Come Saga. Wtedy również wydano dziesięć tom
 ów\, zamykając je tytułem XX: The Infinity Saga. Na początku 2018 r. u
 kazał się nowy singiel "FUCKALLOFYOU2K18". W tym samym roku wydali singl
 e „Carrollton” i „Meet Mr. NICEGUY”\, które trafiły na ich jesie
 nne wydanie „I Want to Die in New Orleans’’
ATTACH;FMTTYPE=image/jpeg:https://night4u.pl/wp-content/uploads/2019/04/35
 473_image_58882976_10156766408517631_5303723623406632960_n.jpg
CATEGORIES:mazowieckie
LOCATION:Klub Studio\, Budryka 4\, Kraków\, 30-072\, Poland
GEO:50.068057;19.908264
X-APPLE-STRUCTURED-LOCATION;VALUE=URI;X-ADDRESS=Budryka 4\, Kraków\, 30-07
 2\, Poland;X-APPLE-RADIUS=100;X-TITLE=Klub Studio:geo:50.068057,19.908264
END:VEVENT
BEGIN:VTIMEZONE
TZID:Europe/Warsaw
X-LIC-LOCATION:Europe/Warsaw
BEGIN:DAYLIGHT
DTSTART:20190331T030000
TZOFFSETFROM:+0100
TZOFFSETTO:+0200
TZNAME:CEST
END:DAYLIGHT
END:VTIMEZONE
END:VCALENDAR