BEGIN:VCALENDAR
VERSION:2.0
PRODID:-//wp-events-plugin.com//7.2.3.1//EN
TZID:Europe/Warsaw
X-WR-TIMEZONE:Europe/Warsaw
BEGIN:VEVENT
UID:4496@night4u.pl
DTSTART;TZID=Europe/Warsaw:20190512T193000
DTEND;TZID=Europe/Warsaw:20190512T223000
DTSTAMP:20190606T115344Z
URL:https://night4u.pl/wydarzenia/suma-swe-torun-nrd/
SUMMARY:SUMA [SWE] - Toruń / NRD
DESCRIPTION:Piranha Tourbooking & Doomstar Bookings zapraszają na koncert 
 zespołu SUMA! Doom metalowy kolos ze szwedzkiego Malmö odwiedzi nasze mi
 asto 12. maja\, by w ramach swojej europejskiej trasy wystąpić w NRD Klu
 b. \n\n▶ SUMA (doom metal\, noise\, stoner\, drone\, sludge / Szwecja)\n
 https://facebook.com/sumanoise/\nZałożona w 2001 roku w Malmö SUMA to z
 espół\, którego fanom powolnego\, ciężkiego grania spod znaku stoner 
 doom przedstawiać raczej nie trzeba. Część kojarzy ich na pewno za spr
 awą świetnie przyjętego albumu "Let The Churches Burn"\, jednak obraźl
 iwe byłoby stwierdzenie\, że to jedyny godny uwagi album\, jaki ten zesp
 ół wydał. Na koncie mają przecież jeszcze takie petardy jak np. "Ashe
 s" czy debiutancka "Suma"\, a to nadal tylko kilka dowodów na to\, że SU
 MA potrafi w hałas i gruz jak mało kto. Masywne riffy i agresywne brzmie
 nie przeplatają się w ich twórczości z hipnotyzującymi\, niekiedy wr
 ęcz dronowymi zagrywkami\, wszystko to oczywiście okraszone odpowiednią
  ilością ciężaru i hałasu. Będzie to pierwsza wizyta tej hordy w Tor
 uniu - sprawmy wspólnie\, aby nie była ostatnią.\nhttps://sumanoise.ban
 dcamp.com/\n\n+ support TBA\n\nSZCZEGÓŁY:\nData: 12 maja 2019\, godz. 19
 :30\nMiejsce: NRD - ul. Browarna 6\, Toruń\nBilety: info wkrótce!\n\nOrg
 anizatorem koncertu jest Piranha Tourbooking.\n
ATTACH;FMTTYPE=image/jpeg:https://night4u.pl/wp-content/uploads/2019/01/14
 850_image_50277550_1990323004422427_444097750095626240_o.jpg
CATEGORIES:kujawsko-pomorskie
LOCATION:NRD Klub\, Browarna 6\, Torun\, 87-100\, Poland
GEO:53.011128;18.612081
X-APPLE-STRUCTURED-LOCATION;VALUE=URI;X-ADDRESS=Browarna 6\, Torun\, 87-100
 \, Poland;X-APPLE-RADIUS=100;X-TITLE=NRD Klub:geo:53.011128,18.612081
END:VEVENT
BEGIN:VTIMEZONE
TZID:Europe/Warsaw
X-LIC-LOCATION:Europe/Warsaw
BEGIN:DAYLIGHT
DTSTART:20190331T030000
TZOFFSETFROM:+0100
TZOFFSETTO:+0200
TZNAME:CEST
END:DAYLIGHT
END:VTIMEZONE
END:VCALENDAR