BEGIN:VCALENDAR
VERSION:2.0
PRODID:-//wp-events-plugin.com//7.2.3.1//EN
TZID:Europe/Warsaw
X-WR-TIMEZONE:Europe/Warsaw
BEGIN:VEVENT
UID:40716@night4u.pl
DTSTART;TZID=Europe/Warsaw:20191228T200000
DTEND;TZID=Europe/Warsaw:20191229T040000
DTSTAMP:20191228T093958Z
URL:https://night4u.pl/wydarzenia/summary-of-2019-alien-x-revinsky-igo/
SUMMARY:Summary of 2019 // Alien X\, Revinsky &amp\; Igo
DESCRIPTION:W ostatnią SOBOTĘ tego roku zafundujemy Wam prawdziwą muzycz
 ną ucztę &lt\;3\n\nTej nocy zagrają wszyscy nasi rezydenci:\n Michal Ig
 o Mierzwinski \nTom Revinsky  \nDJ ALIEN X\n\nMuzyczne podsumowanie 2019ro
 ku ! Nie może Cię zabraknąć !\n\n————————————
 ————————\n\nBILETY I REZERWACJE:\n\nPanie 10pln \nPanowie 
 20pln\nWszyscy do 22:00 otrzymują od naszej uśmiechniętej załogi Welco
 me drinka na powitanie :)\n\nWejdź na nasz system rezerwacyjny online i w
 ybierz stolik\, który odpowiada Ci najbardziej.\nNie czekaj i już dziś 
 zarezerwuj lożę na ten wieczór:\nhttp://www.rezerwacje.2beclub.pl/2019-
 12-28\nJeżeli masz jakieś pytania\, zadzwoń: 33 888 88 88 \nNasza obsł
 uga odpowie na wszystkie Twoje pytania.\n\n——————————
 ——————————\n\nNasza kuchnia Stek i Wino  – w każdy 
 weekend – PIĄTEK i SOBOTA – czynna jest do 2:00 a.m.! 😋\n\nWidzimy
  się na parkiecie \;)
ATTACH;FMTTYPE=image/jpeg:https://night4u.pl/wp-content/uploads/2019/12/12
 4344_image_80568160_3447114531996708_3220507452252356608_o.jpg
CATEGORIES:śląskie
LOCATION:2Be Club\, ul. Ratuszowa 3\, Bielsko-Biała\, 43-300\, Poland
GEO:49.82274;19.05139
X-APPLE-STRUCTURED-LOCATION;VALUE=URI;X-ADDRESS=ul. Ratuszowa 3\, Bielsko-B
 iała\, 43-300\, Poland;X-APPLE-RADIUS=100;X-TITLE=2Be Club:geo:49.82274,1
 9.05139
END:VEVENT
BEGIN:VTIMEZONE
TZID:Europe/Warsaw
X-LIC-LOCATION:Europe/Warsaw
BEGIN:STANDARD
DTSTART:20191027T020000
TZOFFSETFROM:+0200
TZOFFSETTO:+0100
TZNAME:CET
END:STANDARD
END:VTIMEZONE
END:VCALENDAR