BEGIN:VCALENDAR
VERSION:2.0
PRODID:-//wp-events-plugin.com//7.2.3.1//EN
TZID:Europe/Warsaw
X-WR-TIMEZONE:Europe/Warsaw
BEGIN:VEVENT
UID:24476@night4u.pl
DTSTART;TZID=Europe/Warsaw:20190810T220000
DTEND;TZID=Europe/Warsaw:20190811T050000
DTSTAMP:20190809T215505Z
URL:https://night4u.pl/wydarzenia/summer-by-black-2019-gromee/
SUMMARY:Summer by Black 2019 > Gromee
DESCRIPTION:10 sierpnia poczujemy prawdziwą moc i zabawę się na pełnych
  obrotach > Summer by Black. W najbliższy weekend wbijaj do naszego klubu
 ! Rozkręć z nami gorącą imprezę! \nPrzygotowana będzie letnia strefa
  BLACK z konkursami a za sterami naszej konsoli >>>>>>>>>> GROMEE. Tego ni
 e możesz PRZEGAPIĆ!!!
ATTACH;FMTTYPE=image/jpeg:https://night4u.pl/wp-content/uploads/2019/08/57
 605_image_67634690_3351108281569836_3400584667785592832_o.jpg
CATEGORIES:zachodniopomorskie
LOCATION:Klub FRESH-Mielno\, ul.Wojska Polskiego 2\, Mielno Koszalinskie\, 
 76-032\, Poland
GEO:54.260047;16.055004
X-APPLE-STRUCTURED-LOCATION;VALUE=URI;X-ADDRESS=ul.Wojska Polskiego 2\, Mie
 lno Koszalinskie\, 76-032\, Poland;X-APPLE-RADIUS=100;X-TITLE=Klub FRESH-M
 ielno:geo:54.260047,16.055004
END:VEVENT
BEGIN:VTIMEZONE
TZID:Europe/Warsaw
X-LIC-LOCATION:Europe/Warsaw
BEGIN:DAYLIGHT
DTSTART:20190331T030000
TZOFFSETFROM:+0100
TZOFFSETTO:+0200
TZNAME:CEST
END:DAYLIGHT
END:VTIMEZONE
END:VCALENDAR