BEGIN:VCALENDAR
VERSION:2.0
PRODID:-//wp-events-plugin.com//7.2.3.1//EN
TZID:Europe/Warsaw
X-WR-TIMEZONE:Europe/Warsaw
BEGIN:VEVENT
UID:26259@night4u.pl
DTSTART;TZID=Europe/Warsaw:20190907T220000
DTEND;TZID=Europe/Warsaw:20190908T050000
DTSTAMP:20190903T191034Z
URL:https://night4u.pl/wydarzenia/summer-in-the-city-dj-daaz-sobota-07-09/
SUMMARY:Summer In The City: DJ Daaz // Sobota :: 07.09
DESCRIPTION:W sobotę 7 września zapraszamy na ostatnią imprezę "Summer 
 In The City". Na tę okazję zaprosiliśmy gościa specjalnego\, party roc
 kera z Krakowa - Dj Daaz'a finalisty polskiego Red Bull Thre3Style\, któr
 y zaprezentuje swój fenomenalny didżejski stajl!\n\nDJ: DAAZ / Gregg\n\n
 Start: 22:00\nDress code: SMART CASUAL\nBilety: 20 PLN\nWstęp:\n★ Panie
  od 20 lat\n★ Panowie od 23 lat\nW klubie obowiązuje selekcja\n________
 ________________\nGRAND CLUB\nul. Kościuszki 9\, Rzeszów \nTel. (017) 85
 3 30 35\nwww.grandclub.pl #grandclub #rzeszow #grandrzeszow
ATTACH;FMTTYPE=image/jpeg:https://night4u.pl/wp-content/uploads/2019/09/61
 352_image_69791979_2715643998454202_8248873141695152128_o.jpg
CATEGORIES:podkarpackie
LOCATION:Grand Club\, ul. Kościuszki 9\, Rzeszów\, 35-030\, Poland
GEO:50.03742;22.00255
X-APPLE-STRUCTURED-LOCATION;VALUE=URI;X-ADDRESS=ul. Kościuszki 9\, Rzeszó
 w\, 35-030\, Poland;X-APPLE-RADIUS=100;X-TITLE=Grand Club:geo:50.03742,22.
 00255
END:VEVENT
BEGIN:VTIMEZONE
TZID:Europe/Warsaw
X-LIC-LOCATION:Europe/Warsaw
BEGIN:DAYLIGHT
DTSTART:20190331T030000
TZOFFSETFROM:+0100
TZOFFSETTO:+0200
TZNAME:CEST
END:DAYLIGHT
END:VTIMEZONE
END:VCALENDAR