BEGIN:VCALENDAR
VERSION:2.0
PRODID:-//wp-events-plugin.com//7.2.3.1//EN
TZID:Europe/Warsaw
X-WR-TIMEZONE:Europe/Warsaw
BEGIN:VEVENT
UID:19715@night4u.pl
DTSTART;TZID=Europe/Warsaw:20190621T210000
DTEND;TZID=Europe/Warsaw:20190621T210000
DTSTAMP:20190619T115240Z
URL:https://night4u.pl/wydarzenia/summer-on-parkova-club-16/
SUMMARY:Summer On - Parkova Club/16+
DESCRIPTION:Jelenia Góra jesteście gotowi aby rozpocząć wakacje ?!?  My
  tak ! Już 21 czerwca odbędzie się impreza która pokaże wam jak wejś
 ć w ten wakacyjny mood ☀️❤️\n\nSzczegóły evetu:\n-> klub Parkov
 a (Sudecka 61\, 58-500 Jelenia Góra)\n-> 21.06.2019\n-> 21:00\n\nMinimaln
 y wiek —> 16+\n\nZagra u nas jeden z najlepszych Dj-ów z Poznania! \nTV
 LVR\nhttps://www.facebook.com/tvlvr/\n\n\nRezerwacja loży —>\nMarek Sar
 nowski\nKacper Mieszkowski\n\n1 pula —> 15 PLN (tylko do 02.06?) \n2 pul
 a —> 20 PLN \nBramka —> 30 PLN\n\nDystrybucja Biletów:\n\nAla Matusza
 k\nAlicja Jędrzejek\nAsia Nizwald\nDagmara Drzazga \nJan Dubaniewicz\nJan
 ek Kożuchowski\nKacper Mieszkowski\nKacper Muszyński\nKarolina Borkowska
  \nMarcel Domagalski\nMatylda Jurkiewicz\nMichał Ignasiak\nNikola Polita
 ńska\nZuzia Boduch\n\nWstęp do klubu wyłącznie po okazaniu ważnej wlo
 tki zasięgniętej u naszych dystrybutorów oraz ważnego dokumentu tożsa
 mości.\n\nKlub zastrzega sobie prawo do niewpuszczania osob będących po
 d wpływem alkoholu i środków odurzających\,a także zarekwirowanie wno
 szonego alkoholu oraz przeprowadzenie rewizji i selekcji gości.\n\n\nOsob
 y agresywne oraz wulgarne w stosunku do innych gości zostaną wydalone z 
 klubu.\n\nObserwujcie event.Nie pisze ze będzie się działo\, zwyczajnie
  nie muszę.
ATTACH;FMTTYPE=image/jpeg:https://night4u.pl/wp-content/uploads/2019/06/47
 489_image_60767678_409871869850431_3053656910629699584_n.jpg
CATEGORIES:dolnośląskie
LOCATION:Miasto Jelenia Góra\, Plac Ratuszowy 58\, Jelenia Góra\, 58-500\
 , Poland
GEO:50.902883;15.734722
X-APPLE-STRUCTURED-LOCATION;VALUE=URI;X-ADDRESS=Plac Ratuszowy 58\, Jelenia
  Góra\, 58-500\, Poland;X-APPLE-RADIUS=100;X-TITLE=Miasto Jelenia Góra:g
 eo:50.902883,15.734722
END:VEVENT
BEGIN:VTIMEZONE
TZID:Europe/Warsaw
X-LIC-LOCATION:Europe/Warsaw
BEGIN:DAYLIGHT
DTSTART:20190331T030000
TZOFFSETFROM:+0100
TZOFFSETTO:+0200
TZNAME:CEST
END:DAYLIGHT
END:VTIMEZONE
END:VCALENDAR