BEGIN:VCALENDAR
VERSION:2.0
PRODID:-//wp-events-plugin.com//7.2.3.1//EN
TZID:Europe/Warsaw
X-WR-TIMEZONE:Europe/Warsaw
BEGIN:VEVENT
UID:20919@night4u.pl
DTSTART;TZID=Europe/Warsaw:20190705T220000
DTEND;TZID=Europe/Warsaw:20190706T050000
DTSTAMP:20190704T024027Z
URL:https://night4u.pl/wydarzenia/summer-vibes-x-ritual-x-05-07/
SUMMARY:Summer Vibes x Ritual x 05.07
DESCRIPTION:Zapraszmay na letnią piątkową noc w Ritual.\n\nZałóżcie k
 olorowe sukienki\, wepnijcie kwiaty we włosy i sprawdźcie nasze letnie p
 ropozycje koktajlowe na barze.\n\nNasi barmani przygotowali dla Was orzeź
 wiające\, intrygujące i bardzo zróżnicowane koktajle\, wśród któryc
 h każdy znajdzie coś dla siebie na idealny\, letni wieczór.\n\n\nZapras
 zamy od 22:00.\n\n\nZagra:\n\nDJ KOALA\n\nRezerwacje stolików:\n\ninfo@ri
 tualwarsaw.com\n+48 723 23 55 55\n\nRitual Cocktail Club\nul. Mazowiecka 1
 2\n\n\n\n----------------------------------\n\nSummer Vibes\n\n\n\nLine up
 :\n\nDJ KOALA\n\n\nTable reservations:\n\ninfo@ritualwarsaw.com\n+48 723 2
 3 55 55\n\nRitual Cocktail Club\nMazowiecka 12 Street\nWarsaw
ATTACH;FMTTYPE=image/jpeg:https://night4u.pl/wp-content/uploads/2019/07/50
 049_image_65826416_894041244327706_4737772630306717696_o.jpg
CATEGORIES:mazowieckie
LOCATION:Ritual Club Warsaw\, ul. Mazowiecka 12\, Warsaw\, 00-048\, Poland
GEO:52.23782;21.01313
X-APPLE-STRUCTURED-LOCATION;VALUE=URI;X-ADDRESS=ul. Mazowiecka 12\, Warsaw\
 , 00-048\, Poland;X-APPLE-RADIUS=100;X-TITLE=Ritual Club Warsaw:geo:52.237
 82,21.01313
END:VEVENT
BEGIN:VTIMEZONE
TZID:Europe/Warsaw
X-LIC-LOCATION:Europe/Warsaw
BEGIN:DAYLIGHT
DTSTART:20190331T030000
TZOFFSETFROM:+0100
TZOFFSETTO:+0200
TZNAME:CEST
END:DAYLIGHT
END:VTIMEZONE
END:VCALENDAR