BEGIN:VCALENDAR
VERSION:2.0
PRODID:-//wp-events-plugin.com//7.2.3.1//EN
TZID:Europe/Warsaw
X-WR-TIMEZONE:Europe/Warsaw
BEGIN:VEVENT
UID:42873@night4u.pl
DTSTART;TZID=Europe/Warsaw:20200115T210000
DTEND;TZID=Europe/Warsaw:20200116T050000
DTSTAMP:20200331T192645Z
URL:https://night4u.pl/wydarzenia/sunglasses-party-bb-events-dj-jamesba/
SUMMARY:SunGlasses Party /BB Events/ Dj Jamesba
DESCRIPTION:ENG below\nWracają legendarne środy z BB Events! Kto był ten
  wie\, że warto... Być! \;) \nW środowy wieczór czeka Was unikatowe wy
 darzenie muzyczne!\nDj Jamesba\, w asyście z DJem Youngiem zagrają przek
 rój utworów z lat 80' to współczesnych reggaetonów!\nParkiet będzie 
 gorący i to już możemy Wam zagwarantować.\nWszyscy  którzy pojawią s
 ię w przyciemnianych okularach mogą liczyć na specjalne promocje na bar
 ze! Warto! \n\nWidzimy się!\n---------------\nDjs Jamesba\nMusic: from 80
 's to contemporary reggaeton\nBAR PROMO: vodka shot 2 zł \n______________
 __________________________________\n\nStart 21:00\nKlub zastrzega sobie pr
 awo do selekcji gości +18.\nBilety: \n5 PLN - przedsprzedaż \n10 PLN - w
  dniu imprezy\n________________________________________________\n🔥 BUNG
 A BUNGA EVENTS🔥 presents:\n🍻🕐 BACK IN BUSINESS🕐🍻\ndisco fro
 m 80's to contemporary  reggaeton👯🏻‍♀\nSUPER OFFER 2 ZLOTY VODKA
  SHOT  if you wear your sunglasses! 😎 \nDj Jameba 🎧\n WHERE? Silence
  Club 🤫\nWHEN? Wed. January 15st 🗓  11pm 🕐 \n🎟 Discounted tick
 ets 5zl\n\nBunga Bunga Events: from Erasmus people to Erasmus people!🌎\
 n\nFacebook: Bunga Bunga Events\nInstagram: @bungabungaev\n_______________
 _________________________________\nKliknij "wezmę udział" bo "zaintereso
 waną/ym" to można być co najwyżej kolejną kolejką przy barze.\n_____
 ___________________________________________\nZnajdź nas również na:\nSn
 apchat: silence_club || Instagram: @silenceclub\nFacebook: Bunga Bunga Eve
 nts\nInstagram: @bungabungaev\n\n15.01.2020r. (Środa)\nSilenceClub\nRadzi
 szewskiego 8\nLublin
ATTACH;FMTTYPE=image/jpeg:https://night4u.pl/wp-content/uploads/2020/01/13
 6581_image_82586858_3671289482896034_7980271818353147904_o.jpg
CATEGORIES:lubelskie
LOCATION:SilenceClub\, Radziszewskiego 8\, Lublin\, 20-031\, Poland
GEO:51.246457;22.543797
X-APPLE-STRUCTURED-LOCATION;VALUE=URI;X-ADDRESS=Radziszewskiego 8\, Lublin\
 , 20-031\, Poland;X-APPLE-RADIUS=100;X-TITLE=SilenceClub:geo:51.246457,22.
 543797
END:VEVENT
BEGIN:VTIMEZONE
TZID:Europe/Warsaw
X-LIC-LOCATION:Europe/Warsaw
BEGIN:STANDARD
DTSTART:20191027T020000
TZOFFSETFROM:+0200
TZOFFSETTO:+0100
TZNAME:CET
END:STANDARD
END:VTIMEZONE
END:VCALENDAR