BEGIN:VCALENDAR
VERSION:2.0
PRODID:-//wp-events-plugin.com//7.2.3.1//EN
TZID:Europe/Warsaw
X-WR-TIMEZONE:Europe/Warsaw
BEGIN:VEVENT
UID:6058@night4u.pl
DTSTART;TZID=Europe/Warsaw:20190203T210000
DTEND;TZID=Europe/Warsaw:20190204T040000
DTSTAMP:20190201T053232Z
URL:https://night4u.pl/wydarzenia/super-bowl-liii-z-archers-bydgoszcz-w-su
 nesco-bar/
SUMMARY:Super Bowl LIII z Archers Bydgoszcz w Sunesco Bar
DESCRIPTION:Największe święto futbolu amerykańskiego na świecie\, fina
 ł rozgrywek ligi NFL\, zbliża się wielkimi krokami!\n\nSpotkaj się z z
 awodnikami i trenerami najstarszego naszego klubu\, spróbuj swoich sił w
  turnieju NFL Madden\, spędź wieczór zastanawiając się kto jest godny
  noszenia mistrzowskich pierścieni za ten sezon... a potem daj się porwa
 ć emocjom sportowym na najwyższym poziomie!\n\nZarząd\, sztab trenerski
  i zawodnicy KS Bydgoszcz Archers zapraszają w niedzielę\, 3 lutego do S
 unesco Bar na wspólne oglądanie SuperBowl LIII ???\n\nDo zobaczenia!
ATTACH;FMTTYPE=image/jpeg:https://night4u.pl/wp-content/uploads/2019/01/18
 144_image_50267755_10160705971628990_2897743606305521664_o.jpg
CATEGORIES:kujawsko-pomorskie
LOCATION:Sunesco\, Stary Rynek 15-21\, Bydgoszcz\, 85-105\, Poland
GEO:53.12198;18.00029
X-APPLE-STRUCTURED-LOCATION;VALUE=URI;X-ADDRESS=Stary Rynek 15-21\, Bydgosz
 cz\, 85-105\, Poland;X-APPLE-RADIUS=100;X-TITLE=Sunesco:geo:53.12198,18.00
 029
END:VEVENT
BEGIN:VTIMEZONE
TZID:Europe/Warsaw
X-LIC-LOCATION:Europe/Warsaw
BEGIN:STANDARD
DTSTART:20181028T020000
TZOFFSETFROM:+0200
TZOFFSETTO:+0100
TZNAME:CET
END:STANDARD
END:VTIMEZONE
END:VCALENDAR