BEGIN:VCALENDAR
VERSION:2.0
PRODID:-//wp-events-plugin.com//7.2.3.1//EN
TZID:Europe/Warsaw
X-WR-TIMEZONE:Europe/Warsaw
BEGIN:VEVENT
UID:11700@night4u.pl
DTSTART;TZID=Europe/Warsaw:20190404T210000
DTEND;TZID=Europe/Warsaw:20190405T040000
DTSTAMP:20190403T193444Z
URL:https://night4u.pl/wydarzenia/superbohaterzy-after-party-po-akcji-dkms
 /
SUMMARY:Superbohaterzy / After Party Po Akcji DKMS
DESCRIPTION:Nie wszyscy superbohaterzy noszą peleryny ?\nMiędzy 30 marca\
 , a 6 kwietnia Fundacja DKMS organizuje na UMK akcję rejestracji potencja
 lnych Dawców komórek macierzystych\, by pomóc Pacjentom chorym na nowot
 wory krwi.\n\n4 kwietnia w Number One organizujemy imprezę\, podczas\, kt
 órej chcemy podziękować wszystkim osobom biorącym udział w akcji DKMS
 . Zapraszamy wolontariuszy\, osoby zarejestrowane i wszystkich\, którzy c
 hcą się pobawić w gronie naprawdę świetnych ludzi.\n\nDla 100 pierwsz
 ych osób zarejestrowanych jako potencjalni dawcy komórek macierzystych c
 zekać będą welcome shoty na dobre rozpoczęcie imprezy!\n\nPROMOCJE STU
 DENCKIE:\nDrink - 5 PLN\nPiwo - 5 PLN\nWhisky – 5 PLN\n-----------------
 --------------------------------------------------------------------\nSter
 y: LukasDeeJay || Wstęp: FREE || Rezerwacje: FREE\n----------------------
 ---------------------------------------------------------------\nRezerwacj
 e:\n>Tel: 887 688 889 (aktywny w godz. 12:00-21:00)\n>Tel. 56 471 39 36 (a
 ktywny po godz. 21:00)\n--------------------------------------------------
 -----------------------------------\nŚledź nas również na Instagramie:
  numberone_club\n---------------------------------------------------------
 ----------------------------
ATTACH;FMTTYPE=image/jpeg:https://night4u.pl/wp-content/uploads/2019/04/30
 075_image_54524248_1217551218433335_8549203862353870848_o.jpg
CATEGORIES:kujawsko-pomorskie
LOCATION:Number One\, Torun\, Poland
GEO:53.010436;18.604753
X-APPLE-STRUCTURED-LOCATION;VALUE=URI;X-ADDRESS=Torun\, Poland;X-APPLE-RADI
 US=100;X-TITLE=Number One:geo:53.010436,18.604753
END:VEVENT
BEGIN:VTIMEZONE
TZID:Europe/Warsaw
X-LIC-LOCATION:Europe/Warsaw
BEGIN:DAYLIGHT
DTSTART:20190331T030000
TZOFFSETFROM:+0100
TZOFFSETTO:+0200
TZNAME:CEST
END:DAYLIGHT
END:VTIMEZONE
END:VCALENDAR