BEGIN:VCALENDAR
VERSION:2.0
PRODID:-//wp-events-plugin.com//7.2.3.1//EN
TZID:Europe/Warsaw
X-WR-TIMEZONE:Europe/Warsaw
BEGIN:VEVENT
UID:35390@night4u.pl
DTSTART;TZID=Europe/Warsaw:20191205T200000
DTEND;TZID=Europe/Warsaw:20191205T230000
DTSTAMP:20200401T082144Z
URL:https://night4u.pl/wydarzenia/supersam-1-axel-dorner-michal-gorczynski
 /
SUMMARY:SuperSam +1: Axel Dörner &amp\; Michał Górczyński
DESCRIPTION:[scroll down for English]\n\n"SUPERSAM +1" to jeden z projektó
 w realizowanych przez MÓZG WARSZAWA we współpracy z Domem Zabawy i Kult
 ury DZiK. To już 4 edycja projektu w Warszawie.\n\n„SUPERSAM + 1” to 
 cykl wystąpień mistrzowskich. Projekt koncentruje się głównie wokół
  muzyki\, ale przewiduje też udział innych form wyrazu\, takich jak: per
 formance\, multimedia\, monodram. Podczas „SUPERSAM + 1” prezentowani 
 są uznani artyści polscy i zagraniczni nastawieni na działania autorski
 e\, eksperymentalne i innowacyjne.\n\n„SUPER” w tytule oznacza\, że p
 rogram budowany będzie w oparciu o artystów uznanych – mistrzów. „S
 AM” mówi oczywiście o występie solowym\, ale i o twórczym osamotnien
 iu. „+ 1” w tytule oznacza\, że każdy wieczór uwieńczony jest wyst
 ępem w duecie. W większości przypadków artyści spotykają się na sce
 nie po raz pierwszy.\n\nAXEL DÖRNER\nurodził się w 1964 roku w Kolonii 
 w Niemczech. W wieku lat dziewięciu zaczął grać na pianinie\, a gdy mi
 ał lat jedenaście zaczął grać na trąbce. Uczył się gry na trąbce 
 pod okiem Jona Eardleya w Kolonii i studiował pianino na konserwatorium w
  Arnhem w Holandi. Następnie w latach 1989-1994 studiował trąbkę i pia
 nino (z Malte Burbą) na Musikhochschule w Kolonii. Jest jednym z najbardz
 iej wyjątkowych głosów wolnej improwizacji. Wykształcił zupełnie odm
 ienny język wyrazu na trąbce. Większość zespołów\, których jest cz
 łonkiem charakteryzuje się niehierarchicznym modelem współpracy muzyk
 ów. Jest związany głównie z muzykami i środowiskiem Berlina\, Londynu
 \, Chicago oraz Nowego Jorku. W danym momencie jego dyskografia obejmuje p
 onad 150 albumów długogrających. Od 2000 roku koncertuje na wszystkich 
 pięciu kontynentach\, co doprowadziło do stworzenia ogólnoświatowej wi
 elogatunkowej sieci muzycznej\, do której należą najwybitniejsi muzycy 
 naszych czasów.\n\nMICHAŁ GÓRCZYŃSKI\nto klarnecista\, kompozytor i pe
 dagog muzyczny urodzony w 1977 roku. Jest absolwentem warszawskiej Akademi
 i Muzycznej im. F. Chopina w Warszawie. Od 1998 roku skomponował szereg u
 tworów na różne składy instrumentalne (Zróżnicowanie na dwa fagoty i
  klarnet\, Rondo à la Krakowiak na wrzeszczącego pianistę i klarnet bas
 owy\, Malowanie na dwa klarnety\, fagot\, kontrabas i śpiew\, Suita w sty
 lu żydowskim na klarnet\, skrzypce i kontrabas oraz cykle utworów inspir
 owane językami świata na skrzypce\, klarnet i wiolonczelę) oraz muzykę
  do teatru (około 25 spektakli w teatrach dramatycznych i lalkowych). Zaj
 muje się improwizacją i interpretacją muzyki współczesnej. Od 2002 ro
 ku współtworzy zespół Kwartludium\, specjalizujący się w wykonywaniu
  muzyki współczesnej. Od 2008 roku pracuje nad poszerzaniem możliwości
  brzmieniowych klarnetu basowego\, inspirując się beatboxem i współpra
 cując z jednym z najlepszych polskich beatboxerów „Tik Takiem” Patry
 kiem Matelą. Jest twórcą pojęcia „edukacja komponowana”. Jest styp
 endystą UMS Warszawy oraz MKiDN w ramach programu tworzenia alternatywnyc
 h podręczników edukacyjnych. Od 2013 roku realizuje projekt „muzyka do
  języków”\, tworząc autorską muzykę do języka jidysz (płyta zosta
 ła wydana przez Multikulti Records)\, do poezji japońskiej (płyta wydan
 a w For Tune Records) do perskiej poezji Dżalaluddina Rumiego\, poezji Wi
 lliama Blake'a\, poezji indonezyjskiej Sahnila Arifa Farobiansah.\n\n—
 ———————–————————–————–\n[Engli
 sh]\n\n“Supersam + 1” is a series of master performances. The project 
 focuses mainly on music\, however\, it also includes other forms of expres
 sion such as: performance\, multimedia\, monodrama. “SUPERSAM + 1” wil
 l present respected Polish and foreign artists whose work is original\, ex
 perimental and innovative.\n\n“SUPER” in the title means that the prog
 ramme will be based on renowned artists – masters. “SAM” (from Polis
 h\, means „alone”\, „by himself/herself”) refers to the solo perfo
 rmances as well as the creative loneliness. “+ 1” in the title means t
 hat each evening will be crowned with a duo performance. In most cases\, t
 he artists will meet on stage for the first time.\n\nAXEL DÖRNER\nwas bor
 n in 1964 in Köln\, Germany. At the age of nine he started playing piano\
 , at the age of eleven playing trumpet in a local music school. He studied
  trumpet with Jon Eardley in Köln and piano at the conservatory in Arnhem
 \, The Netherlands\, then from 1989–1994 piano and trumpet (with Malte B
 urba) at the Musikhochschule in Köln. He is one of the most unique voices
  in free improvisation. He developed a completely different language for t
 he trumpet in the late 1990s. Most of the ensembles he is part of are char
 acterized by a non-hierarchical collaboration of the musicians involved. H
 e is mainly associated with musicians and communities of Berlin\, London\,
  Chicago as well as New York. At this time his discography consists of mor
 e than 150 CDs / LPs. Since 2000 has has been playing extended concert tou
 rs on all five continents which led to a worldwide genre-comprehensive mus
 ical network with the most distinguished musicians of our time.\n\nMICHAŁ
  GÓRCZYŃSKI\nis a clarinettist\, composer and music teacher born in 1977
 . He graduated from the Fryderyk Chopin Music Academy in Warsaw. Since 199
 8\, he has been composing music for various instrumental ensembles (Zróż
 nicowanie for two bassoons and clarinet\, Rondo à la Krakowiak for scream
 ing pianist and bass clarinet\, Malowanie for two clarinets\, bassoon\, co
 ntrabassoon and singing\, Suite in Jewish Style for clarinet\, violin and 
 double bass\, cycles of works inspired by world languages for violin\, cla
 rinet and cello) as well as theatre music (around 25 plays for drama and p
 uppet theatres). He is active as an improviser and modern music performer.
  He is also the author of installations\, theoretical writings\, radio fea
 tures\, and underground films. Since 2002\, he has been a member of Kwartl
 udium ensemble\, specialising in modern music performance. Since 2008\, he
  has worked on extending the sound of the bass clarinet\, inspired by beat
 box and in cooperation with one of the leading Polish beatboxers\, Patryk 
 Matela a.k.a. Tik Tak. He has coined the term of “composed education.”
  He received grants for the creation of alternative educational manuals. S
 ince 2013\, he has been running a project entitled Music for Languages\, w
 riting original music for the Yiddish language (CD published by Multikulti
  Records)\, Japanese poetry (CD published by Fortune Records)\, and Persia
 n poetry by Jalāl ad-Dīn Rūmī.
ATTACH;FMTTYPE=image/jpeg:https://night4u.pl/wp-content/uploads/2019/11/93
 088_image_73364263_2602713613283810_7503625753821446144_o.jpg
CATEGORIES:mazowieckie
LOCATION:DZiK\, Belwederska 44A\, Mokotów\, 00-594\, Poland
GEO:52.209804;21.028643
X-APPLE-STRUCTURED-LOCATION;VALUE=URI;X-ADDRESS=Belwederska 44A\, Mokotów\
 , 00-594\, Poland;X-APPLE-RADIUS=100;X-TITLE=DZiK:geo:52.209804,21.028643
END:VEVENT
BEGIN:VTIMEZONE
TZID:Europe/Warsaw
X-LIC-LOCATION:Europe/Warsaw
BEGIN:STANDARD
DTSTART:20191027T020000
TZOFFSETFROM:+0200
TZOFFSETTO:+0100
TZNAME:CET
END:STANDARD
END:VTIMEZONE
END:VCALENDAR