BEGIN:VCALENDAR
VERSION:2.0
PRODID:-//wp-events-plugin.com//7.2.3.1//EN
TZID:Europe/Warsaw
X-WR-TIMEZONE:Europe/Warsaw
BEGIN:VEVENT
UID:48900@night4u.pl
DTSTART;TZID=Europe/Warsaw:20200229T210000
DTEND;TZID=Europe/Warsaw:20200301T050000
DTSTAMP:20200229T172929Z
URL:https://night4u.pl/wydarzenia/sweet-lollipops-%e2%98%85-stars-3/
SUMMARY:Sweet Lollipops ★ STARS
DESCRIPTION:Sobota przywita Was cukierkowo słodką nutą z dobrym HOUSEowy
 m podbiciem\, czyli gramy to\, co wszystkie dobre kluby na świecie od dob
 rych kilku lat - hity\, hity\, hity ale w takich aranżacjach\, że zrobic
 ie "Łał!"\n\nTej nocy parkiet rozgrzeją: DJ WARSON (Trójmiasto)\, DJ D
 J MIKESZ (Toruń)\, a podbije im perkusyjnego beat'u niezawodny i utalento
 wany: MR POOKACHU! Gotowi na dużą dawkę słodyczy? Zapewniamy\, będzie
  się działo!\n\n★ ★ ★\n\nWstęp do 22:00:\n- panie i panowie: FREE
 \,\n- karty "Star of Stars": FREE (z osobą towarzyszącą)\,\n- karty "Qu
 een of Stars": FREE.\n\nWstęp od 22:00:\n- panie: 10 PLN\,\n- panowie: 15
  PLN\,\n- karty "Star of Stars": FREE (z osobą towarzyszącą)\,\n- karty
  "Queen of Stars": FREE.\n\n★ ★ ★\n\nPamiętajcie o stroju\, bo jest
  selekcja. Nie trzeba się jej bać\, zresztą zerknijcie w nasze galerie\
 , żeby zobaczyć jak to od wewnątrz wygląda. Nie wymagamy kreacji wiecz
 orowych ale schludny strój casualowy/klubowy jest wskazany ... to tak\, 
 żebyśmy wszyscy dobrze się czuli.\n\nMinimum wiekowe: 21\n\n★ ★ ★
 \n\nStars Club &amp\; Lounge\nBulwar Filadelfijski 11\n87-100 Toruń\n\nIn
 ternet: www.klubstars.pl\nE-mail: stars@klubstars.pl\nInstagram: www.insta
 gram.com/klubstars\n\nRezerwacje sms: +48 516857514\nMenu: http://menu.klu
 bstars.pl/
ATTACH;FMTTYPE=image/jpeg:https://night4u.pl/wp-content/uploads/2020/02/16
 7328_image_87530748_1331987270335382_6405835939779706880_o.jpg
CATEGORIES:kujawsko-pomorskie
LOCATION:Klub Stars\, Bulwar Filadelfijski 11\, Torun\, 87-100\, Poland
GEO:53.007579;18.598323
X-APPLE-STRUCTURED-LOCATION;VALUE=URI;X-ADDRESS=Bulwar Filadelfijski 11\, T
 orun\, 87-100\, Poland;X-APPLE-RADIUS=100;X-TITLE=Klub Stars:geo:53.007579
 ,18.598323
END:VEVENT
BEGIN:VTIMEZONE
TZID:Europe/Warsaw
X-LIC-LOCATION:Europe/Warsaw
BEGIN:STANDARD
DTSTART:20191027T020000
TZOFFSETFROM:+0200
TZOFFSETTO:+0100
TZNAME:CET
END:STANDARD
END:VTIMEZONE
END:VCALENDAR