BEGIN:VCALENDAR
VERSION:2.0
PRODID:-//wp-events-plugin.com//7.2.3.1//EN
TZID:Europe/Warsaw
X-WR-TIMEZONE:Europe/Warsaw
BEGIN:VEVENT
UID:27469@night4u.pl
DTSTART;TZID=Europe/Warsaw:20191110T190000
DTEND;TZID=Europe/Warsaw:20191110T220000
DTSTAMP:20191110T154535Z
URL:https://night4u.pl/wydarzenia/sweet-noise-forty-kleparz-krakow/
SUMMARY:Sweet Noise / Pro-Creation / Sunsmoke Forty - Kleparz Kraków
DESCRIPTION:Respect Tour 2019. Wiesz jaki to czas?!\n10.11.2019 godz. 19:00
  Klub Forty Kleparz – Kraków\n\nBilety przedsprzedaż:\n50 PLN kolekcjo
 nerskie przez http://sklep.respectzang.com/15-akcesoria\n55 PLN online htt
 ps://www.ebilet.pl/muzyka/rock/sweet-noise/\n60 PLN w dniu koncertu.\n\nSw
 eet Noise Band\nW lipcu mogliście usłyszeć dwa koncerty reaktywowanego 
 składu Sweet Noise z Magicem\, które odbyły się w Poznaniu i Pruszczu 
 Gdańskim.\n25 lat od wydania pierwszego albumu «Respect» jego przekaz j
 est dalej porażająco aktualny\, dlatego powstała jesienna trasa koncert
 owa #RespectTour\, która obejmuje kilka miast – jakie? Dowiecie się ja
 k przystało na SN\, w charakterystyczny tajemniczy dla tej formacji spos
 ób. Przez ogromy szacunek dla Was… fanów\, każdy koncert zostanie naj
 pierw ogłoszony i zostaniecie na niego osobiście zaproszeni przez lidera
  grupy Glaca\, podczas transmisji live na FB. Po takim ogłoszeniu pojawi 
 się dopiero oficjalne wydarzenie .\nPodczas #RespectTour SN zagra nie tyl
 ko utwory z albumu «Respect»\, ale z prawie wszystkich swoich płyt. Do 
 setlisty wejdą np. Utwory Wyżej i Kamień które nie były grane od lat 
 90’tych.\nNa koncertach usłyszycie zakręcony riffowo Sweet Noise któr
 y powraca do korzeni\, ale z bardzo mocnym i nowoczesnym brzmieniem. Sweet
  Noise 2019 brzmi lepiej niż kiedykolwiek.\nZa każdym razem powracając 
 robiliśmy to dzięki naszym fanom\, i tym razem nie jest inaczej. Zagramy
  dla wszystkich którzy potrzebują energii\, powrotu do podstawowych wart
 ości i poczucia że w tym całym chaosie nie są sami. Mamy też nadziej
 ę\, że te spotkania z Wami napędzą Sweet Noise do działania przy nowe
 j płycie.\nPrzekażcie to info wszystkim Ludziom Cienia. Do zobaczenia!\n
 \nhttps://www.facebook.com/sweetnoiseband/\nhttps://www.facebook.com/glaca
 official/\nhttps://www.instagram.com/glaca/\nPatroni medialni i partnerzy 
 trasy:\nStrefa Music Art.\, Projekt Events\, rock3miasto.pl\, Koncerty w P
 olsce\, RocKamila\, Kvlt\, CantaraMusic.pl\, Szarpidrut PL\, Life4sound\, 
 Life4 Agency\, Kornfanhead\, wyspa.fm\, Audiostacja\, Universal Audio\, Ti
 cketos\, Ableton\, Respect Zang.
ATTACH;FMTTYPE=image/jpeg:https://night4u.pl/wp-content/uploads/2019/10/63
 955_image_70900630_2424508817834804_5595726879219777536_o.jpg
CATEGORIES:małopolskie
LOCATION:Klub Forty Kleparz\, ul. Kamienna 2  i 4\, Kraków\, 30-001\, Pola
 nd
GEO:50.07478;19.937665
X-APPLE-STRUCTURED-LOCATION;VALUE=URI;X-ADDRESS=ul. Kamienna 2  i 4\, Krak
 ów\, 30-001\, Poland;X-APPLE-RADIUS=100;X-TITLE=Klub Forty Kleparz:geo:50
 .07478,19.937665
END:VEVENT
BEGIN:VTIMEZONE
TZID:Europe/Warsaw
X-LIC-LOCATION:Europe/Warsaw
BEGIN:STANDARD
DTSTART:20191027T020000
TZOFFSETFROM:+0200
TZOFFSETTO:+0100
TZNAME:CET
END:STANDARD
END:VTIMEZONE
END:VCALENDAR