BEGIN:VCALENDAR
VERSION:2.0
PRODID:-//wp-events-plugin.com//7.2.3.1//EN
TZID:Europe/Warsaw
X-WR-TIMEZONE:Europe/Warsaw
BEGIN:VEVENT
UID:32334@night4u.pl
DTSTART;TZID=Europe/Warsaw:20191125T100000
DTEND;TZID=Europe/Warsaw:20191125T130000
DTSTAMP:20191027T011650Z
URL:https://night4u.pl/wydarzenia/swiat-disneya-wedlug-eok/
SUMMARY:Świat Disneya według EOK
DESCRIPTION:Już 25. listopada Salę Koncertową Zespołu Państwowych Szk
 ół Muzycznych opanują bajkowi bohaterowie. I to z bajek znanych każdem
 u pokoleniu\, bo autorstwa samego Walta Disneya. Jak w tym świecie odnajd
 zie się Elbląska Orkiestra Kameralna? Przekonamy się niebawem…\n\nOrk
 iestra oraz jej goście – Anastazja Simińska i Maciej Pawlak – sprawi
 ą\, że elbląska szkoła muzyczna zamieni się w kalejdoskop wrażeń\, 
 barw i dźwięków. Stumilowy los? Kraina lodu? Miasteczko Myszki Miki? Dz
 ięki muzyce dotrzemy tam i poznamy krainy wypełnione wielkimi czynami\, 
 walecznymi sercami i niesamowitymi przygodami\, które zachwycają i stars
 zych\, i młodszych. A jeśli komuś nie wystarczy godzinne spotkanie z Mi
 kim i Kaczorem Donaldem? Nic straconego – koncert z piosenkami Disneya o
 dbędzie się dwukrotnie. Takie miejsca i takie postacie z pewnością na 
 to zasługują…\n\n25.11.2019\, poniedziałek\, 10:00 i 12:00\nSala Konc
 ertowa Zespołu Państwowych Szkół Muzycznych w Elblągu\n\nWykonawcy:  
                 \nAnastazja Simińska – wokalistka\nMaciej Pawlak - woka
 lista\nElbląska Orkiestra Kameralna\n\nW programie m.in.\nPiosenki z film
 ów Walta Disneya\n \nRezerwacje:\nBiuro Koncertowe\, Ratusz Staromiejski\
 ,\ntel. 55 237 47 49\, www. eok.elblag.eu          \nBilety: 15 zł  \nSpr
 awdź zniżki z Elbląską Kartą Dużej Rodziny \n \nSponsor Główny Elb
 ląskiej Orkiestry Kameralnej: Meble Wójcik\nSponsor Elbląskiej Orkiestr
 y Kameralnej: Metal Expert Sp. J.\, Toyota Knedler\nMeble Wójcik jest Fun
 datorem Głównym Instrumentów Elbląskiej Orkiestry Kameralnej
ATTACH;FMTTYPE=image/jpeg:https://night4u.pl/wp-content/uploads/2019/10/77
 505_image_71644339_2589331047795055_2144364445181149184_n.jpg
CATEGORIES:warmińsko-mazurskie
LOCATION:Elbląska Orkiestra Kameralna\, Stary Rynek 25\, Elblag\, 82-300\,
  Poland
GEO:50.289339;18.984375
X-APPLE-STRUCTURED-LOCATION;VALUE=URI;X-ADDRESS=Stary Rynek 25\, Elblag\, 8
 2-300\, Poland;X-APPLE-RADIUS=100;X-TITLE=Elbląska Orkiestra Kameralna:ge
 o:50.289339,18.984375
END:VEVENT
BEGIN:VTIMEZONE
TZID:Europe/Warsaw
X-LIC-LOCATION:Europe/Warsaw
BEGIN:STANDARD
DTSTART:20191027T020000
TZOFFSETFROM:+0200
TZOFFSETTO:+0100
TZNAME:CET
END:STANDARD
END:VTIMEZONE
END:VCALENDAR