BEGIN:VCALENDAR
VERSION:2.0
PRODID:-//wp-events-plugin.com//7.2.3.1//EN
TZID:Europe/Warsaw
X-WR-TIMEZONE:Europe/Warsaw
BEGIN:VEVENT
UID:40153@night4u.pl
DTSTART;TZID=Europe/Warsaw:20191225T210000
DTEND;TZID=Europe/Warsaw:20191226T040000
DTSTAMP:20191225T184925Z
URL:https://night4u.pl/wydarzenia/swiateczna-noc-w-drugim-domu-niespodzian
 ki/
SUMMARY:Świąteczna noc w Drugim Domu // Niespodzianki
DESCRIPTION:To na co wszyscy czekali...\nŚwiąteczna Noc w naszym klubie p
 ozwoli roztańczyć się po całym dniu przy stole! \nZabierz znajomych i 
 przyjdź na najlepszą imprezę świąteczną w mieście! \nOtwieramy dla 
 Was 2 sale w 2 różnych klimatach muzycznych! \nDj Hubi oraz Dj PhoeniX s
 ą swiętnie przygotowani i na pewno nas zaskoczą! \nrezerwacje 515-231-5
 18
ATTACH;FMTTYPE=image/jpeg:https://night4u.pl/wp-content/uploads/2019/12/12
 1060_image_79852680_10159144722724992_8001879004250374144_o.jpg
CATEGORIES:łódzkie
LOCATION:Drugi Dom\, Mickiewicza 11\, Skierniewice\, 96-100\, Poland
GEO:51.96839;20.156641
X-APPLE-STRUCTURED-LOCATION;VALUE=URI;X-ADDRESS=Mickiewicza 11\, Skierniewi
 ce\, 96-100\, Poland;X-APPLE-RADIUS=100;X-TITLE=Drugi Dom:geo:51.96839,20.
 156641
END:VEVENT
BEGIN:VTIMEZONE
TZID:Europe/Warsaw
X-LIC-LOCATION:Europe/Warsaw
BEGIN:STANDARD
DTSTART:20191027T020000
TZOFFSETFROM:+0200
TZOFFSETTO:+0100
TZNAME:CET
END:STANDARD
END:VTIMEZONE
END:VCALENDAR