BEGIN:VCALENDAR
VERSION:2.0
PRODID:-//wp-events-plugin.com//7.2.3.1//EN
TZID:Europe/Warsaw
X-WR-TIMEZONE:Europe/Warsaw
BEGIN:VEVENT
UID:473@night4u.pl
DTSTART;TZID=Europe/Warsaw:20181229T220000
DTEND;TZID=Europe/Warsaw:20181230T050000
DTSTAMP:20181217T153159Z
URL:https://night4u.pl/wydarzenia/swieta-swieta-i-po-swietach-50-na-rezerw
 acje/
SUMMARY:Święta\, święta i po świętach | -50% na rezerwacje
DESCRIPTION:Czas wyprzedaży poświątecznych i kolejki w centrach handlowy
 ch... to znak\, że już po świętach ?\nW te dwa dni również przygotow
 aliśmy dla Was SPECJALNĄ POŚWIĄTECZNA PROMOCJĘ NA STOLIKI REZERWACYJN
 E -50% na 0\,5L Black Smirnoff\, więcej szczegółów poniżej ??\n\nStar
 t: 22:00\nSala główna: Disco & Dance lat 70' i 80' oraz hity lat 90’ i
  00'\nMała sala: zamknięta\nWstęp: 10 PLN\n\nSTAŁA PROMOCJA NA KOKTAJL
 E\n? Piña Colada 10 PLN ?\n? Cuba Libre 10 PLN ?\n\n❗POŚWIĄTECZNA PRO
 MOCJA NA STOLIKI REZERWACYJNE❗\n1️⃣ Rezerwacja od 2 do 4 osób - 0\,
 5L wódki Black Smirnoff + 1L napoju + bezpłatne wejście - 75 PLN\n2️
 ⃣ Rezerwacja od 5 do 8 osób - 2x 0\,5L wódki Black Smirnoff + 2L napoj
 u + bezpłatne wejście - 150 PLN\n3️⃣Rezerwacja od 9 osób - 3x 0\,5L
  wódki Black Smirnoff + 3L napoju + bezpłatne wejście - 225 PLN\nWięce
 j info: \n☎ +48 666 020 100\n\n? SYLWESTER W PRYWATCE Z NAJWIĘKSZYMI PR
 ZEBOJAMI WSZECHCZASÓW ?\nSylwester 2018/2019 w Prywatce | by Johnnie Walk
 er Black Label
ATTACH;FMTTYPE=image/jpeg:https://night4u.pl/wp-content/uploads/2018/12/46
 34_image_47228824_335595297223629_9160028244265664512_o.jpg
CATEGORIES:łódzkie
LOCATION:Prywatka\, Andrzeja Struga 8/10\, Łódź\, 90-426\, Poland
GEO:51.765118;19.455113
X-APPLE-STRUCTURED-LOCATION;VALUE=URI;X-ADDRESS=Andrzeja Struga 8/10\, Łó
 dź\, 90-426\, Poland;X-APPLE-RADIUS=100;X-TITLE=Prywatka:geo:51.765118,19
 .455113
END:VEVENT
BEGIN:VTIMEZONE
TZID:Europe/Warsaw
X-LIC-LOCATION:Europe/Warsaw
BEGIN:STANDARD
DTSTART:20181028T020000
TZOFFSETFROM:+0200
TZOFFSETTO:+0100
TZNAME:CET
END:STANDARD
END:VTIMEZONE
END:VCALENDAR