BEGIN:VCALENDAR
VERSION:2.0
PRODID:-//wp-events-plugin.com//7.2.3.1//EN
TZID:Europe/Warsaw
X-WR-TIMEZONE:Europe/Warsaw
BEGIN:VEVENT
UID:51799@night4u.pl
DTSTART;TZID=Europe/Warsaw:20241227T223000
DTEND;TZID=Europe/Warsaw:20241228T013000
DTSTAMP:20241220T205158Z
URL:https://night4u.pl/wydarzenia/swieta-swieta-i-po-swietach-lista-fb/
SUMMARY:Święta\, święta i po świętach
DESCRIPTION:Impreza "Święta\, święta i po świętach" to idealna rozgrz
 ewka przed sylwestrową nocą! 🎉\n\nCzas spalić świąteczne kalorie n
 a parkiecie przy największych hitach i energetycznych setach. Nie pozwoli
 my zejść Wam z parkietu! Wskakujcie w wygodne buty i dołączcie do najl
 epszej imprezy przed Nowym Rokiem! ❄️🎶🔥\n\nDobre ziomki za DJ-k
 ą:\n🎄Karla Brumi\n🎄Tyszka\n\nTAX: 40 PLN\nLista FB: do 23:00\nVIP: 
 100 PLN\n20+\nRezerwacje: rezerwacje@klubniebo.pl
ATTACH;FMTTYPE=image/jpeg:https://night4u.pl/wp-content/uploads/2024/12/Sw
 ieta-swieta-i-po-swietach.jpg
CATEGORIES:mazowieckie
LOCATION:NIEBO\, NIEBO\, 
X-APPLE-STRUCTURED-LOCATION;VALUE=URI;X-ADDRESS=NIEBO\, ;X-APPLE-RADIUS=100
 ;X-TITLE=NIEBO:geo:0,0
END:VEVENT
BEGIN:VTIMEZONE
TZID:Europe/Warsaw
X-LIC-LOCATION:Europe/Warsaw
BEGIN:STANDARD
DTSTART:20241027T020000
TZOFFSETFROM:+0200
TZOFFSETTO:+0100
TZNAME:CET
END:STANDARD
END:VTIMEZONE
END:VCALENDAR