BEGIN:VCALENDAR
VERSION:2.0
PRODID:-//wp-events-plugin.com//7.2.3.1//EN
TZID:Europe/Warsaw
X-WR-TIMEZONE:Europe/Warsaw
BEGIN:VEVENT
UID:19959@night4u.pl
DTSTART;TZID=Europe/Warsaw:20190630T150000
DTEND;TZID=Europe/Warsaw:20190630T235900
DTSTAMP:20190621T200946Z
URL:https://night4u.pl/wydarzenia/swieto-gminy-wilga/
SUMMARY:Święto Gminy Wilga
DESCRIPTION:Zapraszamy na kolejną edycję Święta Gminy Wilga. W tym roku
  festyn\, odbędzie się w niedzielę 30 czerwca 2019 r. Wstęp wolny!
ATTACH;FMTTYPE=image/jpeg:https://night4u.pl/wp-content/uploads/2019/06/48
 032_image_65260305_2198577520189462_7006667685140365312_o.jpg
CATEGORIES:mazowieckie
LOCATION:Mega Music Wilga (Oficjalne konto klubu)\, Stawowa 9\, Wilga\, 08-
 470\, Poland
GEO:51.84353;21.386362
X-APPLE-STRUCTURED-LOCATION;VALUE=URI;X-ADDRESS=Stawowa 9\, Wilga\, 08-470\
 , Poland;X-APPLE-RADIUS=100;X-TITLE=Mega Music Wilga (Oficjalne konto klub
 u):geo:51.84353,21.386362
END:VEVENT
BEGIN:VTIMEZONE
TZID:Europe/Warsaw
X-LIC-LOCATION:Europe/Warsaw
BEGIN:DAYLIGHT
DTSTART:20190331T030000
TZOFFSETFROM:+0100
TZOFFSETTO:+0200
TZNAME:CEST
END:DAYLIGHT
END:VTIMEZONE
END:VCALENDAR