BEGIN:VCALENDAR
VERSION:2.0
PRODID:-//wp-events-plugin.com//7.2.3.1//EN
TZID:Europe/Warsaw
X-WR-TIMEZONE:Europe/Warsaw
BEGIN:VEVENT
UID:19489@night4u.pl
DTSTART;TZID=Europe/Warsaw:20190619T210000
DTEND;TZID=Europe/Warsaw:20190620T000000
DTSTAMP:20190617T194836Z
URL:https://night4u.pl/wydarzenia/swietujemy-koniec-roku-akademickiego-w-s
 pin-city/
SUMMARY:Świętujemy Koniec Roku Akademickiego w Spin City!
DESCRIPTION:Nawet jeśli masz coś na wrzesień\, pamiętaj - dobra impreza
  nikomu jeszcze nie zaszkodziła!
ATTACH;FMTTYPE=image/jpeg:https://night4u.pl/wp-content/uploads/2019/06/46
 976_image_64878501_1617546248377150_4405725337103630336_o.jpg
CATEGORIES:mazowieckie
LOCATION:Spin City - Centrum Rozrywki\, Powstańców Śląskich 126A\, Wars
 aw\, 01-466\, Poland
GEO:52.265558;20.932456
X-APPLE-STRUCTURED-LOCATION;VALUE=URI;X-ADDRESS=Powstańców Śląskich 126
 A\, Warsaw\, 01-466\, Poland;X-APPLE-RADIUS=100;X-TITLE=Spin City - Centru
 m Rozrywki:geo:52.265558,20.932456
END:VEVENT
BEGIN:VTIMEZONE
TZID:Europe/Warsaw
X-LIC-LOCATION:Europe/Warsaw
BEGIN:DAYLIGHT
DTSTART:20190331T030000
TZOFFSETFROM:+0100
TZOFFSETTO:+0200
TZNAME:CEST
END:DAYLIGHT
END:VTIMEZONE
END:VCALENDAR