BEGIN:VCALENDAR
VERSION:2.0
PRODID:-//wp-events-plugin.com//7.2.3.1//EN
TZID:Europe/Warsaw
X-WR-TIMEZONE:Europe/Warsaw
BEGIN:VEVENT
UID:471@night4u.pl
DTSTART;TZID=Europe/Warsaw:20181231T200000
DTEND;TZID=Europe/Warsaw:20190101T040000
DTSTAMP:20181217T153158Z
URL:https://night4u.pl/wydarzenia/sylwester-2018-2019-w-prywatce-by-johnni
 e-walker-black-label/
SUMMARY:Sylwester 2018/2019 w Prywatce | by Johnnie Walker Black Label
DESCRIPTION:Największa impreza Sylwestrowa w eleganckim wydaniu! ?\nSprawi
 my\, że poczujecie się jak na prawdziwej Prywatce\nZapewniamy największ
 e hity od lat 70' aż do 00' ?\nImprezę nakręca Johnnie Walker #JWSylwes
 ter\, podczas Sylwestra specjalna promocja na Johnnie Walker Black Label\n
 \n❗INFO & REZERWACJE ❗\n☎ 666 020 100 ☎\n? rezerwacje@prywatkaklub
 .pl ?\n? wiadomość poprzez fanpage ?\n__________________________________
 ____________________\nDuża sala \n? start 20:00 \nMiejsca siedzące:\n▪
  140 PLN od pary w tym 0\,5L wódki Black Smirnoff\, 2L napoju oraz przek
 ąski (orzeszki\, paluszki\, finger foods)\n▪ Dostępne loże (4 os.\, 6
  os.\, 8 os.\, 10 os.\, 12 os.)\n▪ Możliwość zamówienia dodatkowo pa
 ter z pysznymi kanapeczkami(30 szt.) w kwocie 70 PLN\n▪ Dla osób zainte
 resowanych dostępny catering \n\nWariant I\nNa ciepło:\n▫ gulasz wiepr
 zowy z marchewką\, cebulką i natką (300 ml)\, podany z pieczywem (kromk
 a bagietki) w serwetce + widelec\n Przekąski:\n▫ tartaletka z marynowan
 ym burakiem i fetą - 1 szt\n▫ tartaletka z gruszką i serem lazur - 1 s
 zt\n▫ indyk w ziołach z ogórkiem - 1 szt\n▫ mini mozzarella z bazyli
 ą i marynowaną dynią - 2 szt\n▫ suszona śliwka pieczona w szynce\, 3
  szt\n Ciasta:\n▫ muffiny z wiśniami i gorzką czekoladą - 1 szt.\n▫
  brownie - 1 szt.\nCena 80 zł / os.\n \nWariant II:\nNa ciepło:\n▫ gul
 asz wieprzowy z marchewką\, cebulką i natką (300 ml)\, podany z pieczyw
 em (kromka bagietki) w serwetce + widelec\n Przekąski:\n▫ tartaletka z 
 marynowanym burakiem i fetą - 2 szt\n▫ tartaletka z gruszką i serem la
 zur - 2 szt\n▫ indyk w ziołach z ogórkiem - 2 szt\n▫ mini mozzarella
  z bazylią i marynowaną dynią - 2 szt\n▫ suszona śliwka pieczona w s
 zynce\, 3 szt\n Ciasta:\n▫ muffiny z wiśniami i gorzką czekoladą - 1 
 szt.\n▫ brownie - 1 szt.\nCena 90 zł / os.\n\n\nBilety: \n▪ 30 PLN [I
  pula - dostępne od 7 grudnia w kasie klubu piątek/sobota od godz. 22:00
  do godz. 4:00] \n▪ 40 PLN [II pula]\n▪ 45 PLN [w dniu imprezy]\n\nPod
 czas wieczoru zostaną przeprowadzone dwie zabawy przez konferansjera \n? 
 Dla wszystkich gości lampka szampana o północy ?\n_____________________
 _________________________________\nMała sala - Sylwester dla Singli organ
 izowany przez StrefaSingla.pl \n[249 PLN/os.]\n? start 19:30 (Szybka Randk
 a)\n? start 20:30 (Zabawa Sylwestrowa)\n▪ dbamy o wyrównane proporcje p
 anie/panowie\n▪ prowadzenie wieczoru przez profesjonalnego konferansjera
 \n▪ program animacyjny - między innymi Szybka Randka i Wymiana Wizytów
 ek\n▪ Żetony o wartości 70 PLN do wykorzystania na barze na cały asor
 tyment\n▪ miejsca siedzące zmienne\n▪ lampka szampana o północy\n
 ▪ Dania ciepłe\, przekąski oraz deser serwowane w bufecie\n▫ Na ciep
 ło: gulasz wieprzowy z marchewką\, cebulką i natką\, podany z pieczywe
 m * barszcz podany z mini pasztecikiem z kapustą i pieczarkami. \n▫ Kor
 eczki na jeden kęs: tartaletki z marynowanym burakiem i fetą * tartaletk
 i z gruszką i serem lazur\, kawałki indyka w ziołach z ogórkiem * mini
  mozzarella z bazylią i marynowaną dynią\, kawałki polędwiczek maryno
 wanych w imbirze\, czosnku i chili * suszona śliwka pieczona w szynce. \n
 ▫ Kanapki bankietowe: z musztardowo-miodowa pastą z kurczaka i kiełkam
 i * z tatarem z wędzonego łososia\, suszonych pomidorów i kaparów. \n
 ▫ Zimne dania: zielone sałaty z camembertem\, pomarańczą i orzechami 
 włoskimi * zielone sałaty z kurczakiem\, suszonymi pomidorami\, oliwkami
  i kaparami * sałatka na kaszy gryczanej z rukolą\, marynowanym kurczaki
 em\, brokułami i chrupiącą szynką * pasztet pieczony w cieście\, poda
 ny z żurawiną * śledzie w oleju z suszoną śliwką\, orzechami włoski
 mi i tymiankiem. \n▫ Na słodko: muffiny z wiśniami i gorzką czekolad
 ą * brownie. \n▫ Napoje gorące (podawane w termosach bankietowych): ka
 wa\, herbata\, mleko\, cukier\, cytryna\n\nwięcej info & rejestracja:\nht
 tps://strefasingla.pl/wydarzenie/happy-single-sylwester-2018-2019-lodz/122
 53
ATTACH;FMTTYPE=image/jpeg:https://night4u.pl/wp-content/uploads/2018/12/46
 29_image_47185814_334573280659164_3501056661647261696_o.jpg
CATEGORIES:łódzkie
LOCATION:Prywatka\, Andrzeja Struga 8/10\, Łódź\, 90-426\, Poland
GEO:51.765118;19.455113
X-APPLE-STRUCTURED-LOCATION;VALUE=URI;X-ADDRESS=Andrzeja Struga 8/10\, Łó
 dź\, 90-426\, Poland;X-APPLE-RADIUS=100;X-TITLE=Prywatka:geo:51.765118,19
 .455113
END:VEVENT
BEGIN:VTIMEZONE
TZID:Europe/Warsaw
X-LIC-LOCATION:Europe/Warsaw
BEGIN:STANDARD
DTSTART:20181028T020000
TZOFFSETFROM:+0200
TZOFFSETTO:+0100
TZNAME:CET
END:STANDARD
END:VTIMEZONE
END:VCALENDAR