BEGIN:VCALENDAR
VERSION:2.0
PRODID:-//wp-events-plugin.com//7.2.3.1//EN
TZID:Europe/Warsaw
X-WR-TIMEZONE:Europe/Warsaw
BEGIN:VEVENT
UID:500@night4u.pl
DTSTART;TZID=Europe/Warsaw:20181231T200000
DTEND;TZID=Europe/Warsaw:20190101T060000
DTSTAMP:20181217T171609Z
URL:https://night4u.pl/wydarzenia/sylwester-2018-4/
SUMMARY:Sylwester 2018
DESCRIPTION:Kochani!\nWspólnie bawimy się cały rok\, ciężko byłoby od
 mówić sobie świętowania Nowego Roku wraz z Wami!\nSzykujemy dla Was mo
 c atrakcji\, oprócz świetnej muzyki granej przez naszego rezydenta DJ Yo
 unga\, który zadba by noc obfitowała wyłącznie w największe hity\, ma
 my dla Was propozycję w której zawiera się OPEN BAR na ogromną ilość
  alkoholi oraz Waszych ulubionych drinków!\n\nZagwarantowane miejsce sied
 zące oraz naprawdę bogate menu w którym każdy znajdzie coś dla siebie
  dla zregenerowania siły przed kolejnymi godzinami spędzonymi na parkiec
 ie!\n\n. ◆ Cena uczestnictwa: 169zł / osobę◆\n\nW cenie:\n★ OPEN B
 AR NA WÓDKĘ\, WINO\, PIWO LANE\, SOKI\, NAPOJE\, KAWA\, HERBATA\, \nWYBR
 ANE DRINKI: Bellini\, Strawbeery Night\, Collins Hibiscus\, Polish Garden 
 \nBezalkoholowe: Strawberry Virgin Mojito\, Blue Lagoon\, Safe Sex On The 
 Beach \n\nPrzez całą noc!!! \nBez ograniczeń!!! \nPustą butelkę wymie
 niasz na pełną!\n\n★ Catering w postaci szwedzkiego stołu. 4 dania go
 rące\, przystawki\, sałatki. Szczegółowe menu znajduję się na dole w
 ydarzenia. \n★ Gwarancja miejsc siedzących! \n★ Lampka szampana przed
  północą\n\n\nSzczegółowe informacje dostępne po numerem: \nRezerwac
 je: \nSilence Club: 81 477 57 98 - kontakt@silenceclub.pl\nPatrycja: 882-8
 07-772 - patrycja@silenceclub.pl\nSylwia: 517-382-947 - sylwia@silenceclub
 .pl \n\n\n\nMenu Sylwester 2018 SilenceClub: \n\n★★★ Dania gorące 
 – stół szwedzki ★★★\nDania gorące – podawane\nKrem z białych
  warzyw z groszkiem ptysiowym			\nRoladki z szynki w ciemnym sosie z opiek
 anymi ziemniaczkami i miksem sałat w sosie vinegret\n				\nDania gorące 
 – stół szwedzki\nBigos myśliwski							\nZapiekanka a’la Bolognese	
 				\nCzerwony barszcz z krokietami		\n\n★★★ Przekąski zimne – st
 ół szwedzki ★★★\nPasztet z indyka z orzechami				\nMięsa pieczone
  miks						\n(schab\, karkówka\, rolady mięsne)\nRoladka naleśnikowa z 
 łososiem				\nSzparaga w szynce						\nNuggetsy z kurczaka z dipem czosnk
 owym		\nŚledź 3 smaki						\nDeska serów żółtych\, pleśniowych 				
 \nGrzanka z mozzarella i pomidorem				\nVulevantsy z salami i serkiem masc
 arpone	\n\n\n★★★ Sałatki ★★★\nMakaronowa z kabanosem\nGrecka\
 nZ wędzonym łososiem\nCezar\n\nZapraszamy!\nWspólnie przywitajmy nowy 2
 019 rok!
ATTACH;FMTTYPE=image/jpeg:https://night4u.pl/wp-content/uploads/2018/12/46
 91_image_46507491_2577245048967155_6896996949367455744_o.jpg
CATEGORIES:lubelskie
LOCATION:SilenceClub\, Radziszewskiego 8\, Lublin\, 20-031\, Poland
GEO:51.246457;22.543797
X-APPLE-STRUCTURED-LOCATION;VALUE=URI;X-ADDRESS=Radziszewskiego 8\, Lublin\
 , 20-031\, Poland;X-APPLE-RADIUS=100;X-TITLE=SilenceClub:geo:51.246457,22.
 543797
END:VEVENT
BEGIN:VTIMEZONE
TZID:Europe/Warsaw
X-LIC-LOCATION:Europe/Warsaw
BEGIN:STANDARD
DTSTART:20181028T020000
TZOFFSETFROM:+0200
TZOFFSETTO:+0100
TZNAME:CET
END:STANDARD
END:VTIMEZONE
END:VCALENDAR