BEGIN:VCALENDAR
VERSION:2.0
PRODID:-//wp-events-plugin.com//7.2.3.1//EN
TZID:Europe/Warsaw
X-WR-TIMEZONE:Europe/Warsaw
BEGIN:VEVENT
UID:31971@night4u.pl
DTSTART;TZID=Europe/Warsaw:20191231T200000
DTEND;TZID=Europe/Warsaw:20200101T060000
DTSTAMP:20191014T025420Z
URL:https://night4u.pl/wydarzenia/sylwester-2019-3/
SUMMARY:Sylwester 2019
DESCRIPTION:Roaring Twenties - czyli klasa i zabawa w wielkim stylu lat 20-
 tych!\n\nSYLWESTER 2019/2020!\n\nTym razem będziemy bawić się w wielkim
  stylu glamour\, rewii\, Coco Chanel i Ala Capone oraz rewolucji modowej l
 at 20-tych!\nEleganckie suknie za kolano i prążkowane garnitury\, pióra
 \, cekiny i frędzle\, błyszczące dodatki\, naszyjniki z pereł i gangst
 erskie kapelusze\, cygaretki i szelki jak najmilej widziane! Na jedną noc
  stań się gwiazdą kabaretu lub mafiozą\, szmuglującym whisky! \nWspan
 iałą zabawę do białego rana przy największych hitach  lat ’70’80
 ’90’ i współczesnych\, zapewni nam DJ Wally!\n\nBilety w cenie od 30
 0 PLN od osoby!\n\nW cenie:\n \n1.  OPEN BAR przez całą noc:\n     •	w
 ódka FINLANDIA dostępna na stołach\,\n     •	whisky\, gin\, piwo\, wi
 no\, wermuty – dostępne przy barze w kieliszkach i drinkach.\n2. lampka
  Martini Prosecco na powitanie Nowego Roku\, \n3. Welcome Drink przy wejś
 ciu\,\n4. napoje: kawa\, herbata\, soki\, woda oraz napoje gazowane\n3. pe
 łny catering: TRZY ciepłe dania dostępne na bufecie i zimna płyta.\n\n
 Startujemy o 20:00 !\nZarezerwuj już teraz: event@podjaszczurami.pl\n\nSz
 czegółowe informacje pod numerem telefonu:  791 555 151\n\nCeny biletów
 :\n•	Sale dolne – 300 zł/osoba (do 1 XI)\, 325 zł/osoba (do 1 XII)\,
  340 zł/osoba (od 2 XII)\n•	Sale górne – 350 zł/osoba (do 1 XI)\, 3
 75 zł/osoba (do 1 XII)\, 390 zł/osoba (od 2 XII)\n\nZapraszamy!
ATTACH;FMTTYPE=image/jpeg:https://night4u.pl/wp-content/uploads/2019/10/75
 507_image_72147918_2969232966438892_5112995026418270208_o.jpg
CATEGORIES:małopolskie
LOCATION:Klub Pod Jaszczurami\, Rynek Główny 8\, Kraków\, 31-042\, Polan
 d
GEO:50.06081;19.93818
X-APPLE-STRUCTURED-LOCATION;VALUE=URI;X-ADDRESS=Rynek Główny 8\, Kraków\
 , 31-042\, Poland;X-APPLE-RADIUS=100;X-TITLE=Klub Pod Jaszczurami:geo:50.0
 6081,19.93818
END:VEVENT
BEGIN:VTIMEZONE
TZID:Europe/Warsaw
X-LIC-LOCATION:Europe/Warsaw
BEGIN:STANDARD
DTSTART:20191027T020000
TZOFFSETFROM:+0200
TZOFFSETTO:+0100
TZNAME:CET
END:STANDARD
END:VTIMEZONE
END:VCALENDAR