BEGIN:VCALENDAR
VERSION:2.0
PRODID:-//wp-events-plugin.com//7.2.3.1//EN
TZID:Europe/Warsaw
X-WR-TIMEZONE:Europe/Warsaw
BEGIN:VEVENT
UID:51817@night4u.pl
DTSTART;TZID=Europe/Warsaw:20241231T210000
DTEND;TZID=Europe/Warsaw:20250101T000000
DTSTAMP:20241229T203847Z
URL:https://night4u.pl/wydarzenia/sylwester-kontrastow-na-kazimierzu-krako
 w/
SUMMARY:SYLWESTER KONTRASTÓW na Kazimierzu/ Kraków
DESCRIPTION:Sylwester Kontrastów – Eksplozja Klimatów w Trzech Światac
 h\n\n🎉 Sylwester pełen kontrastów\, magii i niezapomnianych wrażeń!
  🎉\n\n\nPrzygotujcie się na wyjątkową noc\, która połączy w sobie
  głęboką mroczność oraz szaloną radość\, tworząc niepowtarzalną 
 mieszankę dźwięków\, wizualnych eksplozji i magicznych performansów.\
 n\nSylwester Kontrastów to wydarzenie\, które zaspokoi oczekiwania każd
 ego\, kto pragnie poczuć atmosferę zarówno ciemnych zakamarków muzyczn
 ych światów\, jak i wkraczać w pełną energii przestrzeń popowych sza
 leństw!\n\n\n⚡ Trzy Sceny – Trzy Światy – Jeden Niezapomniany Sylw
 ester! ⚡\n\n\n🌈 Scena 1 – Brokatowa Petarda DJ Baker Party Maker (G
 uilty Pleasure Songs\, Eurodance\, 90s Hits\, Pop\, Neon Vibes)\n\n\nPrzyg
 otujcie się na eksplozję radości! Na tej scenie Kapłanka Brokatu - DJ 
 Baker Party Maker - uraczy Was niecodzienną muzyczną ucztą złożoną z
  Guilty Pleasure Songs\, Eurodance wspominek\, Smerfnych Hitów\, Eurowizy
 jnych szlagierów i wszelakich pojexanych nut przez które będzie trzeba 
 ewakuować dancefloor 🔮Jeśli kochasz neonowe barwy\, cekiny\, brokat i
  taneczne szaleństwo – to właśnie dla Ciebie. W atmosferze wielkich h
 itów lat 90.\, szalonych klubowych przebojów i pełnej energii zabawy\, 
 DJ Baker Party Maker i Alessandro zabiorą Was w podróż do muzycznych ws
 pomnień\, które nie pozwolą Wam opuścić parkietu ✨�\n\n\n🌙 Sce
 na 2 – Mroczne Zaklęcia TOXIK TWINZ (Dark\, Goth\, Post-Punk\, Electro\
 , Noise\, Wave)\n\n\nJeśli fascynuje Cię gotycka mroczność\, post-punk
 owa energia\, a do tego uwielbiasz mroczne brzmienia elektroniczne – ta 
 scena jest dla Ciebie! Zanurz się w mrocznych dźwiękach\, które porwą
  Cię na parkiet. Czeka na Ciebie wyjątkowy miks dark goth\, post-punk\, 
 electro\, wave\, noise i rituals\, który wprowadzi Cię w niezapomnianą\
 , gotycką atmosferę. Sprawimy\, że poczujesz magię strefy mroku!\n\n\n
 🖤 Scena 3 – Świat Mistyki i Czarów (Dark\, Ritual\, Kinky\, Emo)\n\
 n\nNa tej scenie oczekują Was gęste\, mroczne połączenia muzyczne. Cza
 rodzieje dźwięku przeniosą Was do świata pełnego rituals\, kinky brzm
 ień i emozji\, gdzie mroczne rytmy zderzą się z elektronicznymi ekspery
 mentami. Odkryj ciężkie\, mroczne beaty\, zmysłowe połączenia z elect
 ro i noise\, które stworzą prawdziwą atmosferę tajemnicy. W tej strefi
 e zatoniesz w dźwiękach\, które na zawsze zapiszą się w Twojej pamię
 ci!\n\n\n🔮 O Co Chodzi w Sylwestrze Kontrastów?\n\nCzeka na Was połą
 czenie ciemności i światła\, spokoju i szaleństwa\, magii i radości 
 – wszystko w jednym miejscu! Brokatowa petarda z wybuchowym połączenie
 m muzyki z lat 90.\, mistyczne rytuały z mrocznymi dźwiękami i pełna e
 nergii popowa ekstaza z hitem za hitem.\n\n\nW ramach jednej imprezy oferu
 jemy trzy różne światy muzyczne\, które przeplatają się\, tworząc n
 iezapomnianą całość. Tańczysz w jednym miejscu\, ale czujesz się jak
 byś przenosił się między różnymi wymiarami dźwięków!\n\n\n💥 Gw
 arantowane Atrakcje 💥\n\nGuilty pleasure hitów\, 90s music\, neonowe s
 troje i niezapomniane wizualizacje.\n\nDark\, goth\, emo\, ritual vibes na
  dwóch innych scenach\, które wciągną Cię w mroczne dźwięki.\n\nDwi
 e strefy chillout\, pełne tajemnic i atmosfery.\n\nKaplica Brokatu\, peł
 na magii\, błyskotek i nieoczekiwanych niespodzianek!\n\nPerformansy cosp
 layowe i muzyczne rytuały\, które oczarują wszystkich.�\n\n\n🎫 Cen
 y Biletów 🎫\n\n‼️ Do 30.12 ‼️\n\n👉 Wejściówka bez gwaranc
 ji miejsca siedzącego – 100 zł\n\n👉 Wejściówka z gwarancją miejs
 ca siedzącego – 150 zł (ilość miejsc ograniczona)\n\n\n‼️ Od 30.
 12 do 31.12 ‼️\n\n👉 Wejściówka bez gwarancji miejsca siedzącego 
 – 150 zł\n\n👉 Wejściówka z gwarancją miejsca siedzącego ( wyprze
 dane)\n\n\nKażdy bilet obejmuje:\n\n💃 Muzykę na trzech parkietach do 
 rana i dodatkowe atrakcje\n\n🍷 Lampkę szampana o północy\n\n🧈 Zim
 ne i ciepłe przekąski do wyczerpania zapasów\n\n\n📍 Miejsce:\n\nKrak
 ów / Kazimierz\n\nul. Berka Joselewicza 23/23a (wejście od Berka 21)\n\n
 \n🔮 Dołącz do nas w Noc Sylwestrową! 🔮\n\nZanurz się w trzy ró
 żne światy muzyki\, energii i sztuki. Przyjdź na Sylwester Kontrastów 
 i pozwól się porwać niezapomnianym dźwiękom i magicznej atmosferze!\n
 \n\n👉 Bilety online:\n\n\nWejściówka z rezerwacją miejsca siedząceg
 o ( wyprzedane)\n\nWejściówka bez gwarancji miejsca siedzącego\n\nhttps
 ://www.tuiowdzie.club/events/7259080695698722816
ATTACH;FMTTYPE=image/jpeg:https://night4u.pl/wp-content/uploads/2024/12/SY
 LWESTER-KONTRASTOW-na-Kazimierzu-Krakow.jpg
CATEGORIES:małopolskie
LOCATION:Berka Joselewicza 23\, Kraków\, Berka Joselewicza 23\, Kraków\, 
X-APPLE-STRUCTURED-LOCATION;VALUE=URI;X-ADDRESS=Berka Joselewicza 23\, Krak
 ów\, ;X-APPLE-RADIUS=100;X-TITLE=Berka Joselewicza 23\, Kraków:geo:0,0
END:VEVENT
BEGIN:VTIMEZONE
TZID:Europe/Warsaw
X-LIC-LOCATION:Europe/Warsaw
BEGIN:STANDARD
DTSTART:20241027T020000
TZOFFSETFROM:+0200
TZOFFSETTO:+0100
TZNAME:CET
END:STANDARD
END:VTIMEZONE
END:VCALENDAR