BEGIN:VCALENDAR
VERSION:2.0
PRODID:-//wp-events-plugin.com//7.2.3.1//EN
TZID:Europe/Warsaw
X-WR-TIMEZONE:Europe/Warsaw
BEGIN:VEVENT
UID:38061@night4u.pl
DTSTART;TZID=Europe/Warsaw:20191231T200000
DTEND;TZID=Europe/Warsaw:20200101T040000
DTSTAMP:20191225T221837Z
URL:https://night4u.pl/wydarzenia/sylwester-rockowy-w-ridersie/
SUMMARY:SYLWESTER ROCKOWY W RIDER'SIE
DESCRIPTION:Zapraszmy na najbardziej rockowy sylwester w Lublinie 😁 Dobr
 a muzyka\, wspaniali ludzie i niepowtarzalna atmosfera to nasz przepis na 
 najlepsze imprezy 🍹🍺🎉 Wjazd 40 PLN od osoby i możecie przynieś
 ć własne jedzonko.W cenie szampan o północy 🙂 Alko z baru tylko i w
 yłącznie 🍸🍹🍷Na barze również będzie można nabyć przekąski
  dla bardziej leniwych 😉 Dla każdego miejsce siedzące ale liczba miej
 sc ograniczona! Informacja przez telefon ale zapisy tylko wraz z wpłatą.
  Telefon 500 154 616.
ATTACH;FMTTYPE=image/jpeg:https://night4u.pl/wp-content/uploads/2019/12/10
 8757_image_78417961_3190159774388982_7247992036257693696_n.jpg
CATEGORIES:lubelskie
LOCATION:Rider's Pub Lublin\, 3 Maja 9\, Lublin\, 20-078\, Poland
GEO:51.250675;22.558363
X-APPLE-STRUCTURED-LOCATION;VALUE=URI;X-ADDRESS=3 Maja 9\, Lublin\, 20-078\
 , Poland;X-APPLE-RADIUS=100;X-TITLE=Rider's Pub Lublin:geo:51.250675,22.55
 8363
END:VEVENT
BEGIN:VTIMEZONE
TZID:Europe/Warsaw
X-LIC-LOCATION:Europe/Warsaw
BEGIN:STANDARD
DTSTART:20191027T020000
TZOFFSETFROM:+0200
TZOFFSETTO:+0100
TZNAME:CET
END:STANDARD
END:VTIMEZONE
END:VCALENDAR